BEGIN:VCALENDAR
VERSION:2.0
PRODID:-//ChamberMaster//Event Calendar 2.0//EN
METHOD:PUBLISH
X-PUBLISHED-TTL:P3D
REFRESH-INTERVAL:P3D
CALSCALE:GREGORIAN
BEGIN:VEVENT
DTSTART:20111022T050000Z
DTEND:20111022T050000Z
X-MICROSOFT-CDO-ALLDAYEVENT:FALSE
SUMMARY:5K for ''BAT''avia United Way
DESCRIPTION:Run A 5K for BATavia United Way. Help us raise funds to support 17 non profit agencies that supportBatavians in need.
X-ALT-DESC;FMTTYPE=text/html:Run A 5K for BATavia United Way. Help us raise funds to support 17 non profit agencies that supportBatavians in need.
LOCATION:
UID:e.1902.382
SEQUENCE:3
DTSTAMP:20260423T034621Z
URL:https://business.bataviachamber.org/events/details/5k-for-bat-avia-united-way-10-22-2011-382
END:VEVENT

END:VCALENDAR
