BEGIN:VCALENDAR
VERSION:2.0
PRODID:-//ChamberMaster//Event Calendar 2.0//EN
METHOD:PUBLISH
X-PUBLISHED-TTL:P3D
REFRESH-INTERVAL:P3D
CALSCALE:GREGORIAN
BEGIN:VEVENT
DTSTART:20090321T050000Z
DTEND:20090321T050000Z
X-MICROSOFT-CDO-ALLDAYEVENT:FALSE
SUMMARY:''50MenWhoCook''
DESCRIPTION:50 extraordinary men demonstrate their cooking prowess for attendees\, acting as judges. Sample countless individual tastings from each chef’s station and cast your vote for your favorite in each of several categories.
X-ALT-DESC;FMTTYPE=text/html:50 extraordinary men demonstrate their cooking prowess for attendees\, acting as judges. Sample countless individual tastings from each chef’s station and cast your vote for your favorite in each of several categories.
LOCATION:Lincoln Inn Banquets
UID:e.1902.845
SEQUENCE:3
DTSTAMP:20260421T143700Z
URL:https://business.bataviachamber.org/events/details/50menwhocook-03-21-2009-845
END:VEVENT

END:VCALENDAR
