BEGIN:VCALENDAR
VERSION:2.0
PRODID:-//ChamberMaster//Event Calendar 2.0//EN
METHOD:PUBLISH
X-PUBLISHED-TTL:P3D
REFRESH-INTERVAL:P3D
CALSCALE:GREGORIAN
BEGIN:VEVENT
DTSTART:20090920T050000Z
DTEND:20090920T050000Z
X-MICROSOFT-CDO-ALLDAYEVENT:FALSE
SUMMARY:50 Year Staff Party
DESCRIPTION:See old friends from the good old days of working at Funway. There will be well over 200 past and present employees.
X-ALT-DESC;FMTTYPE=text/html:See old friends from the good old days of working at Funway. There will be well over 200 past and present employees.
LOCATION:Funway
UID:e.1902.999
SEQUENCE:3
DTSTAMP:20260421T044506Z
URL:https://business.bataviachamber.org/events/details/50-year-staff-party-09-20-2009-999
END:VEVENT

END:VCALENDAR
