BEGIN:VCALENDAR
VERSION:2.0
PRODID:-//ChamberMaster//Event Calendar 2.0//EN
METHOD:PUBLISH
X-PUBLISHED-TTL:P3D
REFRESH-INTERVAL:P3D
CALSCALE:GREGORIAN
BEGIN:VEVENT
DTSTART:20120324T050000Z
DTEND:20120324T050000Z
X-MICROSOFT-CDO-ALLDAYEVENT:FALSE
SUMMARY:50 Men Who Cook
DESCRIPTION:Fifty Men Cook. You Feast… and Save Lives!\nProceeds from Suicide Prevention Services of America events and fundraisers stay in your local community to support SPS programs and services advancing thecause for suicide prevention. There will be live entertainment\, raffles\, great fun and cash bar. Come sample appetizers\, soups/salads\, entrees and desserts. You get to choose who will have bragging rights until 2013. www.50menwhocook.com
X-ALT-DESC;FMTTYPE=text/html:Fifty Men Cook. You Feast… and Save Lives!\nProceeds from Suicide Prevention Services of America events and fundraisers stay in your local community to support SPS programs and services advancing thecause for suicide prevention. There will be live entertainment\, raffles\, great fun and cash bar. Come sample appetizers\, soups/salads\, entrees and desserts. You get to choose who will have bragging rights until 2013. www.50menwhocook.com
LOCATION:Lincoln Inn
UID:e.1902.512
SEQUENCE:3
DTSTAMP:20260422T194411Z
URL:https://business.bataviachamber.org/events/details/50-men-who-cook-03-24-2012-512
END:VEVENT

END:VCALENDAR
