BEGIN:VCALENDAR
VERSION:2.0
PRODID:-//ChamberMaster//Event Calendar 2.0//EN
METHOD:PUBLISH
X-PUBLISHED-TTL:P3D
REFRESH-INTERVAL:P3D
CALSCALE:GREGORIAN
BEGIN:VEVENT
DTSTART:20110319T050000Z
DTEND:20110319T050000Z
X-MICROSOFT-CDO-ALLDAYEVENT:FALSE
SUMMARY:50 Men Who Cook
DESCRIPTION:Join us at the beautiful Lincoln Inn for an enjoyable evening of food and fun! 50 local men will becooking to support the vital work of Suicide Prevention Services in Batavia.
X-ALT-DESC;FMTTYPE=text/html:Join us at the beautiful Lincoln Inn for an enjoyable evening of food and fun! 50 local men will becooking to support the vital work of Suicide Prevention Services in Batavia.
LOCATION:Lincoln Inn Banquets
UID:e.1902.146
SEQUENCE:3
DTSTAMP:20260419T195439Z
URL:https://business.bataviachamber.org/events/details/50-men-who-cook-03-19-2011-146
END:VEVENT

END:VCALENDAR
