BEGIN:VCALENDAR
VERSION:2.0
PRODID:-//ChamberMaster//Event Calendar 2.0//EN
METHOD:PUBLISH
X-PUBLISHED-TTL:P3D
REFRESH-INTERVAL:P3D
CALSCALE:GREGORIAN
BEGIN:VEVENT
DTSTART:20100227T060000Z
DTEND:20100227T060000Z
X-MICROSOFT-CDO-ALLDAYEVENT:FALSE
SUMMARY:50 Men Who Cook
DESCRIPTION:50 men who cook is a fundraiser that benefits the mission of Suicide Prevention. Men of all inds volunteer their time to show their culinary skills for this wonderful benefit. We have mayors\, policemen\, firemen\, pasty chefs and even ELVIS will be cooking. There will be door prizes\, a 50/50 rafflle and open bar.
X-ALT-DESC;FMTTYPE=text/html:<P align=left>50 men who cook is a fundraiser that benefits the mission of Suicide Prevention. Men of all inds volunteer their time to show their culinary skills for this wonderful benefit. We have mayors\, policemen\, firemen\, pasty chefs and even ELVIS will be cooking. There will be door prizes\, a 50/50 rafflle and open bar.</P>
LOCATION:Lincoln Inn Banquets
UID:e.1902.1127
SEQUENCE:3
DTSTAMP:20260424T150012Z
URL:https://business.bataviachamber.org/events/details/50-men-who-cook-02-27-2010-1127
END:VEVENT

END:VCALENDAR
