BEGIN:VCALENDAR
VERSION:2.0
PRODID:-//ChamberMaster//Event Calendar 2.0//EN
METHOD:PUBLISH
X-PUBLISHED-TTL:P3D
REFRESH-INTERVAL:P3D
CALSCALE:GREGORIAN
BEGIN:VEVENT
DTSTART:20090704T050000Z
DTEND:20090704T050000Z
X-MICROSOFT-CDO-ALLDAYEVENT:FALSE
SUMMARY:4th of July Sky Concert
DESCRIPTION:Batavia"s beloved 4th of July Fireworks show. Savor-the-flavor food vendors at 5:30 pm\, Musical Showcase at 7:00 pm and the famed Sky Concert at 9:30 pm. Rain date (only for dangerous conditions) is July 5.
X-ALT-DESC;FMTTYPE=text/html:Batavia"s beloved 4th of July Fireworks show. Savor-the-flavor food vendors at 5:30 pm\, Musical Showcase at 7:00 pm and the famed Sky Concert at 9:30 pm. Rain date (only for dangerous conditions) is July 5.
LOCATION:Engstrom Park
UID:e.1902.815
SEQUENCE:3
DTSTAMP:20260421T070947Z
URL:https://business.bataviachamber.org/events/details/4th-of-july-sky-concert-07-04-2009-815
END:VEVENT

END:VCALENDAR
