BEGIN:VCALENDAR
VERSION:2.0
PRODID:-//ChamberMaster//Event Calendar 2.0//EN
METHOD:PUBLISH
X-PUBLISHED-TTL:P3D
REFRESH-INTERVAL:P3D
CALSCALE:GREGORIAN
BEGIN:VEVENT
DTSTART:20100704T050000Z
DTEND:20100704T050000Z
X-MICROSOFT-CDO-ALLDAYEVENT:FALSE
SUMMARY:4th of July American Dialogue
DESCRIPTION:Join us at City Hall (100 N. Island Avenue) for a conversation about our "hopes\, fears and dreams for the community\, nation and the world". It is a wonderful way to begin the celebration of Independence Day and show our gratitude for the freedom we have to share our dreams for the future.
X-ALT-DESC;FMTTYPE=text/html:Join us at City Hall (100 N. Island Avenue) for a conversation about our "hopes\, fears and dreams for the community\, nation and the world". It is a wonderful way to begin the celebration of Independence Day and show our gratitude for the freedom we have to share our dreams for the future.
LOCATION:City of Batavia
UID:e.1902.9
SEQUENCE:3
DTSTAMP:20260420T105448Z
URL:https://business.bataviachamber.org/events/details/4th-of-july-american-dialogue-07-04-2010-9
END:VEVENT

END:VCALENDAR
