BEGIN:VCALENDAR
VERSION:2.0
PRODID:-//ChamberMaster//Event Calendar 2.0//EN
METHOD:PUBLISH
X-PUBLISHED-TTL:P3D
REFRESH-INTERVAL:P3D
CALSCALE:GREGORIAN
BEGIN:VEVENT
DTSTART:20090704T050000Z
DTEND:20090704T050000Z
X-MICROSOFT-CDO-ALLDAYEVENT:FALSE
SUMMARY:4th of July American Dialogue
DESCRIPTION:A conversation about our hopes\, fears and dreams for the community\, nation and the world.
X-ALT-DESC;FMTTYPE=text/html:A conversation about our hopes\, fears and dreams for the community\, nation and the world.
LOCATION:Batavia City Hall
UID:e.1902.816
SEQUENCE:3
DTSTAMP:20260425T021758Z
URL:https://business.bataviachamber.org/events/details/4th-of-july-american-dialogue-07-04-2009-816
END:VEVENT

END:VCALENDAR
