BEGIN:VCALENDAR
VERSION:2.0
PRODID:-//ChamberMaster//Event Calendar 2.0//EN
METHOD:PUBLISH
X-PUBLISHED-TTL:P3D
REFRESH-INTERVAL:P3D
CALSCALE:GREGORIAN
BEGIN:VEVENT
DTSTART:20110422T050000Z
DTEND:20110422T050000Z
X-MICROSOFT-CDO-ALLDAYEVENT:FALSE
SUMMARY:4th Annual Used Instrument Sale
DESCRIPTION:The P.T.O. of J.B. Nelson Elementary School in Batavia is hosting its fourth annual used instrumentsale on Friday\, April 22nd from 5 pm – 8 pm. This fundraiser is an opportunity for the residents ofDistrict 101 and the surrounding areas to sell or purchase gently used and well-maintained musical instruments. The proceeds from the sale will benefit the JB Nelson P.T.O.\n\nYour instrument(s) can be dropped off in the gym at JB Nelson School\, 334 William Wood Lane from 4pm – 6pm on Thursday April21st\, or Friday\, April 22nd from 4pm – 5pm. For a seller’s information packet\, please email Deb Ditchman at ditch696@att.net or call (630) 761-1020.
X-ALT-DESC;FMTTYPE=text/html:The P.T.O. of J.B. Nelson Elementary School in Batavia is hosting its fourth annual used instrumentsale on Friday\, April 22nd from 5 pm – 8 pm. This fundraiser is an opportunity for the residents ofDistrict 101 and the surrounding areas to sell or purchase gently used and well-maintained musical instruments. The proceeds from the sale will benefit the JB Nelson P.T.O.\n\nYour instrument(s) can be dropped off in the gym at JB Nelson School\, 334 William Wood Lane from 4pm – 6pm on Thursday April21st\, or Friday\, April 22nd from 4pm – 5pm. For a seller’s information packet\, please email Deb Ditchman at ditch696@att.net or call (630) 761-1020.\n
LOCATION:J.B. Nelson School
UID:e.1902.162
SEQUENCE:3
DTSTAMP:20260419T181043Z
URL:https://business.bataviachamber.org/events/details/4th-annual-used-instrument-sale-04-22-2011-162
END:VEVENT

END:VCALENDAR
