BEGIN:VCALENDAR
VERSION:2.0
PRODID:-//ChamberMaster//Event Calendar 2.0//EN
METHOD:PUBLISH
X-PUBLISHED-TTL:P3D
REFRESH-INTERVAL:P3D
CALSCALE:GREGORIAN
BEGIN:VEVENT
DTSTART:20101113T060000Z
DTEND:20101113T060000Z
X-MICROSOFT-CDO-ALLDAYEVENT:FALSE
SUMMARY:4th Annual Holiday Craft Fair and Open House
DESCRIPTION:Make Holiday shopping less stressful this year - vist the 4th Annual Holiday Craft Fair at Alden ofWaterford. Unique gifts\, food items\, jewelry\, crafts\, one-of-akind decorations and much more! Admission is free! For more information call 630-851-1880.
X-ALT-DESC;FMTTYPE=text/html:Make Holiday shopping less stressful this year - vist the 4th Annual Holiday Craft Fair at Alden ofWaterford. Unique gifts\, food items\, jewelry\, crafts\, one-of-akind decorations and much more! Admission is free! For more information call 630-851-1880.
LOCATION:Alden Gardens of Waterford
UID:e.1902.75
SEQUENCE:3
DTSTAMP:20260420T024133Z
URL:https://business.bataviachamber.org/events/details/4th-annual-holiday-craft-fair-and-open-house-11-13-2010-75
END:VEVENT

END:VCALENDAR
