BEGIN:VCALENDAR
VERSION:2.0
PRODID:-//ChamberMaster//Event Calendar 2.0//EN
METHOD:PUBLISH
X-PUBLISHED-TTL:P3D
REFRESH-INTERVAL:P3D
CALSCALE:GREGORIAN
BEGIN:VEVENT
DTSTART:20081017T220000Z
DTEND:20081018T030000Z
X-MICROSOFT-CDO-ALLDAYEVENT:FALSE
SUMMARY:4th Annual Bunco for Breast Cancer
DESCRIPTION:Once again the Batavia Bunco Committee is hosting a night of rolling the dice. This year’s event will be held at the Lincoln Inn on Friday\, Oct. 17 from 5 pm – 10 pm. At 5 pm there will be an hour of appetizers during which you can preview the Silent Auction items and Chinese Raffle prizes. Check in must be completed by 6:15 pm and the dice will start rolling at 6:30 pm! Five main prizes will be awarded.\n\nThis year they will only be selling 200 tickets\, so buy them early or you will miss out! Last year they hosted over 250 ladies and raised over $13\,000.00 for Breast Cancer research. They are hoping to reach that goal again this year! If you have questions\, please email bataviabfbc@comcast.net.
X-ALT-DESC;FMTTYPE=text/html:<DIV style="FONT-FAMILY: Arial" align=left>Once again the Batavia Bunco Committee is hosting a night of rolling the dice. This year’s event will be held at the Lincoln Inn on Friday\, Oct. 17 from 5 pm – 10 pm. At 5 pm there will be an hour of appetizers during which you can preview the Silent Auction items and Chinese Raffle prizes. Check in must be completed by 6:15 pm and the dice will start rolling at 6:30 pm! Five main prizes will be awarded.<BR><BR>This year they will only be selling 200 tickets\, so buy them early or you will miss out! Last year they hosted over 250 ladies and raised over $13\,000.00 for Breast Cancer research. They are hoping to reach that goal again this year! If you have questions\, please email <A href="mailto:bataviabfbc@comcast.net">bataviabfbc@comcast.net</A>. </DIV>
LOCATION:Lincoln Inn
UID:e.1902.1591
SEQUENCE:3
DTSTAMP:20260421T230430Z
URL:https://business.bataviachamber.org/events/details/4th-annual-bunco-for-breast-cancer-10-17-2008-1591
END:VEVENT

END:VCALENDAR
