BEGIN:VCALENDAR
VERSION:2.0
PRODID:-//ChamberMaster//Event Calendar 2.0//EN
METHOD:PUBLISH
X-PUBLISHED-TTL:P3D
REFRESH-INTERVAL:P3D
CALSCALE:GREGORIAN
BEGIN:VEVENT
DTSTART:20091121T060000Z
DTEND:20091121T060000Z
X-MICROSOFT-CDO-ALLDAYEVENT:FALSE
SUMMARY:3rd Annual Luncheon & Fashion Show
DESCRIPTION:Lunch\, Fashion Show\, Silent Auction\, Basket Raffle\, 50/50\, Door Prizes are all a part of the afternoon.
X-ALT-DESC;FMTTYPE=text/html:Lunch\, Fashion Show\, Silent Auction\, Basket Raffle\, 50/50\, Door Prizes are all a part of the afternoon.
LOCATION:St. Charles Country Club
UID:e.1902.1064
SEQUENCE:3
DTSTAMP:20260420T232314Z
URL:https://business.bataviachamber.org/events/details/3rd-annual-luncheon-fashion-show-11-21-2009-1064
END:VEVENT

END:VCALENDAR
