BEGIN:VCALENDAR
VERSION:2.0
PRODID:-//ChamberMaster//Event Calendar 2.0//EN
METHOD:PUBLISH
X-PUBLISHED-TTL:P3D
REFRESH-INTERVAL:P3D
CALSCALE:GREGORIAN
BEGIN:VEVENT
DTSTART:20180609T230000Z
DTEND:20180610T040000Z
X-MICROSOFT-CDO-ALLDAYEVENT:FALSE
SUMMARY:3rd Annual Blues & Roots on Water Street Music Festival
DESCRIPTION:The 2018 Blues & Roots on Water Street festival is a one-day\, two-stage\, five-act\, totally indoors limited ticket\, nice and intimate\, festival\, featuring some of the finest in Roots\, Americana and Blues that the Chicago area\, and Austin\, Texas\, has to offer!\n\n\n\n \n\n\n\nThe headliner on the Blues Stage will be Alligator recording artist\, The Cash Box Kings. Immediately prior to the Kings\, Delmark Records recording artist\, Dave Specter will be setting the mood and tone on the Blues Stage right which is located within the friendly confines of Kiss The Sky.\n\n\n\n \n\n\n\nMulti-genre three-piece virtuoso musicians\, Anderlik\, Otto & Church will kick things off in the Roots Lounge Stage located in the Dock Room of Water Street Studios. Austin\, Texas based Beth Lee and the Breakups will follow AOC while Chicago's very own and notorious Devil in a Woodpile will close out the evening in the Roots Lounge.\n\n\n\n \n\n\n\nFestival Line-Up\n\nThe Roots Lounge\n\n7:00pm Anderlik\, Otto & Church\n\n8:45pm Beth Lee & The Breakups\n\n10:30pm Devil in a Woodpile\n\nThe Blues Stage\n\n8:00pm Dave Specter\n\n9:45pm The Cash Box Kings\n\n\n\nDoors to the festival will open at 6:00pm.\n\n\n\n \n\n\n\nAs was the case last year\, food will be provided by Batavia's River Edge Bar & Grill and will be located in the Water Street Studios Art Gallery space. Libations will be available for purchase as well.\n\n\n\n \n\n\n\nTickets for the festival are limited to 300\, and will be available via Eventbrite on line. Tickets may also be purchased at Kiss The Sky and Water Street Studios. Tickets purchased on line will be emailed to the purchaser of record and they will need to be printed and brought to the festival for entry thereof. Tickets purchased in advance are $25.\n\n\n\n \n\n\n\nThe festival is brought to you by Water Street Studios\, Batavia MainStreet\, Kiss The Sky and the Fox Valley Music Foundation\, with support and influence and love and advice from Batavia Enterprises. Other fantastic organizations involved in the support include Funway\, Boyce Body Werks\, Kluber Inc.\, Drendel and Janson Law Group and K. Hollis Jewelers.\n\n\n\n \n\n\n\nFor more info\, stop in and see Steve at Kiss The Sky\, or Dani or Jaime at Water Street Studios or shoot Steve an email at steve@fvmf.org.
X-ALT-DESC;FMTTYPE=text/html:<div>\n<div>The 2018 Blues &amp\; Roots on Water Street festival is a one-day\, two-stage\, five-act\, totally indoors limited ticket\, nice and intimate\, festival\, featuring some of the finest in Roots\, Americana and Blues that the Chicago area\, and Austin\, Texas\, has to offer!</div>\n</div>\n\n<div>\n<div>&nbsp\;</div>\n</div>\n\n<div>\n<div>The headliner on the Blues Stage will be Alligator recording artist\, The Cash Box Kings. Immediately prior to the Kings\, Delmark Records recording artist\, Dave Specter will be setting the mood and tone on the Blues Stage right which is located within the friendly confines of Kiss The Sky.</div>\n</div>\n\n<div>\n<div>&nbsp\;</div>\n</div>\n\n<div>\n<div>Multi-genre three-piece virtuoso musicians\, Anderlik\, Otto &amp\; Church will kick things off in the Roots Lounge Stage located in the Dock Room of Water Street Studios. Austin\, Texas based Beth Lee and the Breakups will follow AOC while Chicago&#39\;s very own and notorious Devil in a Woodpile will close out the evening in the Roots Lounge.</div>\n</div>\n\n<div>\n<div>&nbsp\;</div>\n</div>\n\n<div>\n<p>Festival Line-Up<br />\n<strong>The Roots Lounge</strong><br />\n7:00pm Anderlik\, Otto &amp\; Church<br />\n8:45pm Beth Lee &amp\; The Breakups<br />\n10:30pm Devil in a Woodpile<br />\n<strong>The Blues Stage</strong><br />\n8:00pm Dave Specter<br />\n9:45pm The Cash Box Kings</p>\n</div>\n\n<div>\n<div>Doors to the festival will open at 6:00pm.</div>\n</div>\n\n<div>\n<div>&nbsp\;</div>\n</div>\n\n<div>\n<div>As was the case last year\, food will be provided by Batavia&#39\;s River Edge Bar &amp\; Grill and will be located in the Water Street Studios Art Gallery space. Libations will be available for purchase as well.</div>\n</div>\n\n<div>\n<div>&nbsp\;</div>\n</div>\n\n<div>\n<div>Tickets for the festival are limited to 300\, and will be available via Eventbrite on line. Tickets may also be purchased at Kiss The Sky and Water Street Studios. Tickets purchased on line will be emailed to the purchaser of record and they will need to be printed and brought to the festival for entry thereof. Tickets purchased in advance are $25.</div>\n</div>\n\n<div>\n<div>&nbsp\;</div>\n</div>\n\n<div>\n<div>The festival is brought to you by Water Street Studios\, Batavia MainStreet\, Kiss The Sky and the Fox Valley Music Foundation\, with support and influence and love and advice from Batavia Enterprises. Other fantastic organizations involved in the support include Funway\, Boyce Body Werks\, Kluber Inc.\, Drendel and Janson Law Group and K. Hollis Jewelers.</div>\n</div>\n\n<div>\n<div>&nbsp\;</div>\n</div>\n\n<div>\n<div>For more info\, stop in and see Steve at Kiss The Sky\, or Dani or Jaime at Water Street Studios or shoot Steve an email at steve@fvmf.org.</div>\n</div>\n
LOCATION:160 Block on Water Street Water Street Studios Kiss the Sky The Loading Dock
UID:e.1902.7947
SEQUENCE:3
DTSTAMP:20260424T131402Z
URL:https://business.bataviachamber.org/events/details/3rd-annual-blues-roots-on-water-street-music-festival-7947
END:VEVENT

END:VCALENDAR
