BEGIN:VCALENDAR
VERSION:2.0
PRODID:-//ChamberMaster//Event Calendar 2.0//EN
METHOD:PUBLISH
X-PUBLISHED-TTL:P3D
REFRESH-INTERVAL:P3D
CALSCALE:GREGORIAN
BEGIN:VEVENT
DTSTART:20080812T220000Z
DTEND:20080813T000000Z
X-MICROSOFT-CDO-ALLDAYEVENT:FALSE
SUMMARY:2nd Tuesday Meet & Greet
DESCRIPTION:Join us for our third quarterly Prospective Member Meet & Greet…dubbed the "2nd Tuesday". The first two were a huge success and if you missed them\, you missed the opportunity to meet some extraordinary people. Join us at The Rendez Vu (1 E. Wilson St.) for some light snacks. Bring a prospective member and be eligible to win $50 in "Chamber Dollars." Here's your opportunity to help us grow and save some money!
X-ALT-DESC;FMTTYPE=text/html:Join us for our third quarterly Prospective Member Meet & Greet…dubbed the "2nd Tuesday". The first two were a huge success and if you missed them\, you missed the opportunity to meet some extraordinary people. Join us at The Rendez Vu (1 E. Wilson St.) for some light snacks. Bring a prospective member and be eligible to win $50 in "Chamber Dollars." Here's your opportunity to help us grow and save some money!
LOCATION:The Rendez Vu
UID:e.1902.1204
SEQUENCE:3
DTSTAMP:20260422T023444Z
URL:https://business.bataviachamber.org/events/details/2nd-tuesday-meet-greet-08-12-2008-1204
END:VEVENT

END:VCALENDAR
