BEGIN:VCALENDAR
VERSION:2.0
PRODID:-//ChamberMaster//Event Calendar 2.0//EN
METHOD:PUBLISH
X-PUBLISHED-TTL:P3D
REFRESH-INTERVAL:P3D
CALSCALE:GREGORIAN
BEGIN:VEVENT
DTSTART;VALUE=DATE:20170312
DTEND;VALUE=DATE:20170313
TRANSP:TRANSPARENT
X-MICROSOFT-CDO-ALLDAYEVENT:TRUE
SUMMARY:2nd Annual St. Pat’s Day 5K to benefit Anderson Animal Shelter
DESCRIPTION:A 5K Run/Walk benefiting the Anderson Animal Shelter will be held on Sunday\, March 12th at 9 am in South Elgin\, IL.  Runners\, walkers\, dogs all welcome!
X-ALT-DESC;FMTTYPE=text/html:<p>A 5K Run/Walk benefiting the Anderson Animal Shelter will be held on Sunday\, March 12th at 9 am in South Elgin\, IL. &nbsp\;Runners\, walkers\, dogs all welcome!</p>\n
LOCATION:The run will start at SEBA Park and follow the Fox River Trail throughout the forest preserve district.
UID:e.1902.6571
SEQUENCE:3
DTSTAMP:20260425T130638Z
URL:https://business.bataviachamber.org/events/details/2nd-annual-st-pat-s-day-5k-to-benefit-anderson-animal-shelter-6571
END:VEVENT

END:VCALENDAR
