BEGIN:VCALENDAR
VERSION:2.0
PRODID:-//ChamberMaster//Event Calendar 2.0//EN
METHOD:PUBLISH
X-PUBLISHED-TTL:P3D
REFRESH-INTERVAL:P3D
CALSCALE:GREGORIAN
BEGIN:VEVENT
DTSTART:20100923T050000Z
DTEND:20100923T050000Z
X-MICROSOFT-CDO-ALLDAYEVENT:FALSE
SUMMARY:2nd. Annual Duck Race fundraiser for Leukemia Research
DESCRIPTION:Alden of Waterford will be hosting a "Duck Race" to benefit Leukemia Researd Foundation.  You can purchase a duck for this race for $5.00 each.  First place winner will receive $500!! Come out and enjoy the duck race - appetizers\, cocktail hour\, games for kids and much more!
X-ALT-DESC;FMTTYPE=text/html:Alden of Waterford will be hosting a "Duck Race" to benefit Leukemia Researd Foundation.  You can purchase a duck for this race for $5.00 each.  First place winner will receive $500!! Come out and enjoy the duck race - appetizers\, cocktail hour\, games for kids and much more!
LOCATION:Alden of Waterford Rehabilitation and Health Care
UID:e.1902.20
SEQUENCE:3
DTSTAMP:20260420T061020Z
URL:https://business.bataviachamber.org/events/details/2nd-annual-duck-race-fundraiser-for-leukemia-research-09-23-2010-20
END:VEVENT

END:VCALENDAR
