BEGIN:VCALENDAR
VERSION:2.0
PRODID:-//ChamberMaster//Event Calendar 2.0//EN
METHOD:PUBLISH
X-PUBLISHED-TTL:P3D
REFRESH-INTERVAL:P3D
CALSCALE:GREGORIAN
BEGIN:VEVENT
DTSTART:20100612T050000Z
DTEND:20100612T050000Z
X-MICROSOFT-CDO-ALLDAYEVENT:FALSE
SUMMARY:2econd Saturdays...At the Studios
DESCRIPTION:Second Saturdays “At the Studios”\n\nDemonstration\, conversation\, imagination\, inspiration - plus great Art! These are a few things you might experience during our open studios on Second Saturdays. Please join us for this unique opportunity to view works in progress and finished pieces.\n\nOn the second Saturday of each month a select group of our Water Street Studios resident artists will open their working studios so the public can explore their artistry. Come and see WSS in action!\n\nSecond Saturdays hours are 6-10 p. Please join the featured artists for an evening of creativity\,snacks and refreshments. Come and browse\, linger over a cup of coffee\, make it a date night!\n\nSecond Saturdays are always free and a great way to purchase art directly from the artist.\n\nFeatured Artists: John Granata\, Roosevelt Nunn Jr\, and Gina Floro.
X-ALT-DESC;FMTTYPE=text/html:Second Saturdays “At the Studios”\n\nDemonstration\, conversation\, imagination\, inspiration - plus great Art! These are a few things you might experience during our open studios on Second Saturdays. Please join us for this unique opportunity to view works in progress and finished pieces.\n\nOn the second Saturday of each month a select group of our Water Street Studios resident artists will open their working studios so the public can explore their artistry. Come and see WSS in action!\n\nSecond Saturdays hours are 6-10 p. Please join the featured artists for an evening of creativity\,snacks and refreshments. Come and browse\, linger over a cup of coffee\, make it a date night!\n\nSecond Saturdays are always free and a great way to purchase art directly from the artist.\n\nFeatured Artists: John Granata\, Roosevelt Nunn Jr\, and Gina Floro.
LOCATION:Water Street Studios
UID:e.1902.3
SEQUENCE:3
DTSTAMP:20260420T123330Z
URL:https://business.bataviachamber.org/events/details/2econd-saturdays-at-the-studios-06-12-2010-3
END:VEVENT

END:VCALENDAR
