BEGIN:VCALENDAR
VERSION:2.0
PRODID:-//ChamberMaster//Event Calendar 2.0//EN
METHOD:PUBLISH
X-PUBLISHED-TTL:P3D
REFRESH-INTERVAL:P3D
CALSCALE:GREGORIAN
BEGIN:VEVENT
DTSTART:20240812T143000Z
DTEND:20240812T213000Z
X-MICROSOFT-CDO-ALLDAYEVENT:FALSE
SUMMARY:CASA Kane County's 21st Golf for a Child Invitational
DESCRIPTION:Join us for our 21st annual Golf for a Child Invitational this August. Enjoy a delicious brunch\, goodie bag\, halfway house lunch\, silent auction & raffle\, and a cocktail reception with live music. Green fees are included with your cart as well as locker room accessibility. Pricing is as follows: Foursome $2\,000.00 and Single Golfer $500.00. \n\n\n\nAgenda:\n\n9:30 ~ Registration\n\n10:00 ~ Brunch & Practice Range\n\n11:30 ~ Shotgun\n\n4:30 ~ Cocktail Reception & Awards\n\n\n\nAll funds go directly to providing vital services for the 600+ children who have experienced abuse and neglect in Kane County.
X-ALT-DESC;FMTTYPE=text/html:<span style="color:#333333"><span style="font-family:arial\,sans-serif"><span style="font-size:10.0pt">Join us for our 21st annual&nbsp\;</span></span></span><em><span style="color:#333333"><span style="font-family:arial\,sans-serif"><span style="font-size:10.0pt">Golf for a Child Invitational&nbsp\;</span></span></span></em><span style="color:#333333"><span style="font-family:arial\,sans-serif"><span style="font-size:10.0pt">this August. Enjoy a delicious brunch\, goodie bag\, halfway house lunch\, silent auction &amp\; raffle\, and a cocktail reception with live music. Green fees are included with your cart as well as locker room accessibility. Pricing is as follows: Foursome $2\,000.00 and Single Golfer $500.00.&nbsp\;</span></span></span><br />\n<br />\n<span style="color:#333333"><span style="font-family:arial\,sans-serif"><span style="font-size:10.0pt">Agenda:<br />\n9:30 ~ Registration<br />\n10:00 ~ Brunch &amp\; Practice Range<br />\n11:30 ~ Shotgun<br />\n4:30 ~ Cocktail Reception &amp\; Awards<br />\n<br />\nAll funds go directly to providing vital services for the 600+ children who have experienced abuse and neglect in Kane County.</span></span></span>
LOCATION:St. Charles Country Club 1250 Country Club Road Saint Charles IL 60174
UID:e.1902.25108
SEQUENCE:3
DTSTAMP:20260426T005001Z
URL:https://business.bataviachamber.org/events/details/21st-golf-for-a-child-invitational-25108
END:VEVENT

END:VCALENDAR
