BEGIN:VCALENDAR
VERSION:2.0
PRODID:-//ChamberMaster//Event Calendar 2.0//EN
METHOD:PUBLISH
X-PUBLISHED-TTL:P3D
REFRESH-INTERVAL:P3D
CALSCALE:GREGORIAN
BEGIN:VEVENT
DTSTART:20100305T060000Z
DTEND:20100305T060000Z
X-MICROSOFT-CDO-ALLDAYEVENT:FALSE
SUMMARY:21st Annual Benefit & Auction
DESCRIPTION:SAVE THE DATE\nTriCity Family Services\n21st Annual Benefit and Auction\n\nDinner – Silent Auction –Live Auction – Split the Pot Raffle\n\nProceeds help make our family-centered\, \n- mental health counseling services\,\n- crisis intervention services\, and \n- prevention and early intervention programs\n   affordable and available to all in need \n   in the mid-Fox River Valley.    \n\nTicket information will be released in early 2010.  \nSave the Date- March 5\, 2010
X-ALT-DESC;FMTTYPE=text/html:SAVE THE DATE\nTriCity Family Services\n21st Annual Benefit and Auction\n\nDinner – Silent Auction –Live Auction – Split the Pot Raffle\n\nProceeds help make our family-centered\, \n- mental health counseling services\,\n- crisis intervention services\, and \n- prevention and early intervention programs\n   affordable and available to all in need \n   in the mid-Fox River Valley.    \n\nTicket information will be released in early 2010.  \nSave the Date- March 5\, 2010\n\n
LOCATION:Eagle Brook Country Club
UID:e.1902.985
SEQUENCE:3
DTSTAMP:20260420T162025Z
URL:https://business.bataviachamber.org/events/details/21st-annual-benefit-auction-03-05-2010-985
END:VEVENT

END:VCALENDAR
