BEGIN:VCALENDAR
VERSION:2.0
PRODID:-//ChamberMaster//Event Calendar 2.0//EN
METHOD:PUBLISH
X-PUBLISHED-TTL:P3D
REFRESH-INTERVAL:P3D
CALSCALE:GREGORIAN
BEGIN:VEVENT
DTSTART:20101005T050000Z
DTEND:20101005T050000Z
X-MICROSOFT-CDO-ALLDAYEVENT:FALSE
SUMMARY:20th Anniversary Open House Celebration
DESCRIPTION:Open house celebration followed by a panel discussion on the "Continuum of Care for Seniors" in ourcommunity
X-ALT-DESC;FMTTYPE=text/html:Open house celebration followed by a panel discussion on the "Continuum of Care for Seniors" in ourcommunity
LOCATION:Elderday Center
UID:e.1902.63
SEQUENCE:3
DTSTAMP:20260420T041658Z
URL:https://business.bataviachamber.org/events/details/20th-anniversary-open-house-celebration-10-05-2010-63
END:VEVENT

END:VCALENDAR
