BEGIN:VCALENDAR
VERSION:2.0
PRODID:-//ChamberMaster//Event Calendar 2.0//EN
METHOD:PUBLISH
X-PUBLISHED-TTL:P3D
REFRESH-INTERVAL:P3D
CALSCALE:GREGORIAN
BEGIN:VEVENT
DTSTART:20190828T130000Z
DTEND:20190828T143000Z
X-MICROSOFT-CDO-ALLDAYEVENT:FALSE
SUMMARY:2019 HR Programming: Salary Survey Trends & Updates
DESCRIPTION:Salary Survey Trends & Updates
X-ALT-DESC;FMTTYPE=text/html:&nbsp\; &nbsp\;Salary Survey Trends &amp\; Updates&nbsp\;
LOCATION:VIA Education Center 2000 S. Batavia Ave. Geneva\, IL
UID:e.1902.9822
SEQUENCE:3
DTSTAMP:20260423T020540Z
URL:https://business.bataviachamber.org/events/details/2019-hr-programming-salary-survey-trends-updates-9822
END:VEVENT

END:VCALENDAR
