BEGIN:VCALENDAR
VERSION:2.0
PRODID:-//ChamberMaster//Event Calendar 2.0//EN
METHOD:PUBLISH
X-PUBLISHED-TTL:P3D
REFRESH-INTERVAL:P3D
CALSCALE:GREGORIAN
BEGIN:VEVENT
DTSTART;VALUE=DATE:20191009
DTEND;VALUE=DATE:20191010
TRANSP:TRANSPARENT
X-MICROSOFT-CDO-ALLDAYEVENT:TRUE
SUMMARY:2019 Holiday Village Pieces: Batavia United Methodist Church
DESCRIPTION:Celebrate the Holidays by building your own Batavia Village! The Batavia Chamber has commissioned a limited quantity of scaled models of our very own wonderful and historic buildings to be released annually. The inaugural piece is the beautiful Batavia United Methodist Church and is available for purchase at the Batavia Chamber office while supplies last. The Batavia Depot Museum Village piece is planned for 2020!
X-ALT-DESC;FMTTYPE=text/html:Celebrate the Holidays by building your own Batavia Village! The Batavia Chamber has commissioned a limited quantity of scaled models of our very own wonderful and historic buildings to be released annually. The inaugural piece is the beautiful Batavia United Methodist Church and is available for purchase at the Batavia Chamber office while supplies last. The Batavia Depot Museum Village piece is planned for 2020!
LOCATION:Batavia Chamber of Commerce 106 W. Wilson Street Batavia\, IL 60510
UID:e.1902.10636
SEQUENCE:3
DTSTAMP:20260422T221927Z
URL:https://business.bataviachamber.org/events/details/2019-holiday-village-pieces-batavia-united-methodist-church-10-09-2019-10636
END:VEVENT

END:VCALENDAR
