BEGIN:VCALENDAR
VERSION:2.0
PRODID:-//ChamberMaster//Event Calendar 2.0//EN
METHOD:PUBLISH
X-PUBLISHED-TTL:P3D
REFRESH-INTERVAL:P3D
CALSCALE:GREGORIAN
BEGIN:VEVENT
DTSTART:20110120T060000Z
DTEND:20110120T060000Z
X-MICROSOFT-CDO-ALLDAYEVENT:FALSE
SUMMARY:2011 Outlook
DESCRIPTION:A seminar on the 2011 Economic Outlook. Light Snacks will be provided. Please RSVP by calling 630-879-8464 by January 17th.
X-ALT-DESC;FMTTYPE=text/html:A seminar on the 2011 Economic Outlook. Light Snacks will be provided. Please RSVP by calling 630-879-8464 by January 17th.
LOCATION:Batavia Public Library
UID:e.1902.111
SEQUENCE:3
DTSTAMP:20260420T004313Z
URL:https://business.bataviachamber.org/events/details/2011-outlook-01-20-2011-111
END:VEVENT

END:VCALENDAR
