BEGIN:VCALENDAR
VERSION:2.0
PRODID:-//ChamberMaster//Event Calendar 2.0//EN
METHOD:PUBLISH
X-PUBLISHED-TTL:P3D
REFRESH-INTERVAL:P3D
CALSCALE:GREGORIAN
BEGIN:VEVENT
DTSTART:20100118T060000Z
DTEND:20100118T060000Z
X-MICROSOFT-CDO-ALLDAYEVENT:FALSE
SUMMARY:2010 Economic & Market Outlook
DESCRIPTION:Discussion on the 2010 Economic & Market Outlook as well as the new Roth IRA conversion rules.
X-ALT-DESC;FMTTYPE=text/html:Discussion on the 2010 Economic &amp\; Market Outlook as well as the new Roth IRA conversion rules.
LOCATION:Batavia Public Library
UID:e.1902.1083
SEQUENCE:3
DTSTAMP:20260420T195322Z
URL:https://business.bataviachamber.org/events/details/2010-economic-market-outlook-01-18-2010-1083
END:VEVENT

END:VCALENDAR
