BEGIN:VCALENDAR
VERSION:2.0
PRODID:-//ChamberMaster//Event Calendar 2.0//EN
METHOD:PUBLISH
X-PUBLISHED-TTL:P3D
REFRESH-INTERVAL:P3D
CALSCALE:GREGORIAN
BEGIN:VEVENT
DTSTART:20100612T050000Z
DTEND:20100612T050000Z
X-MICROSOFT-CDO-ALLDAYEVENT:FALSE
SUMMARY:2010 Batavia Lions Guidedog Golf Classic
DESCRIPTION:COST: $85.00 Per person. This includes the Golf\, Cart and Dinner afterwards at the Batavia Moose inBatavia. You may invite a guest for the Dinner at a cost of $20.00 each. Fees must accompany reservation. HOLE Sponsorships: $100.00 Per hole. Other donations are welcome. The proceeds go to the LionsClub of Batavia and the Guidedog Foundation. For more information contact the Committee: Dale Larson (630) 828-2657\, Lew Girmscheid (630) 879-0262\, Brian Clevenger (630) 466-5077 or Kurt Larson (630)973-3038. All inquiries to Batavia Lions\, P.O. Box 11\, Batavia\, IL 60510.
X-ALT-DESC;FMTTYPE=text/html:COST: $85.00 Per person. This includes the Golf\, Cart and Dinner afterwards at the Batavia Moose inBatavia. You may invite a guest for the Dinner at a cost of $20.00 each. Fees must accompany reservation. HOLE Sponsorships: $100.00 Per hole. Other donations are welcome. The proceeds go to the LionsClub of Batavia and the Guidedog Foundation. For more information contact the Committee: Dale Larson (630) 828-2657\, Lew Girmscheid (630) 879-0262\, Brian Clevenger (630) 466-5077 or Kurt Larson (630)973-3038. All inquiries to Batavia Lions\, P.O. Box 11\, Batavia\, IL 60510.
LOCATION:Fox Valley Country Club
UID:e.1902.1165
SEQUENCE:3
DTSTAMP:20260420T111809Z
URL:https://business.bataviachamber.org/events/details/2010-batavia-lions-guidedog-golf-classic-06-12-2010-1165
END:VEVENT

END:VCALENDAR
