BEGIN:VCALENDAR
VERSION:2.0
PRODID:-//ChamberMaster//Event Calendar 2.0//EN
METHOD:PUBLISH
X-PUBLISHED-TTL:P3D
REFRESH-INTERVAL:P3D
CALSCALE:GREGORIAN
BEGIN:VEVENT
DTSTART:20100923T230000Z
DTEND:20100924T020000Z
X-MICROSOFT-CDO-ALLDAYEVENT:FALSE
SUMMARY:''20 Under 30'' Recognition Dinner
DESCRIPTION:Join us as we recognize the next generation of business leaders for Batavia and the Fox Valley. The Batavia Chamber of Commerce wants to recognize 20 professionals under 30 years of age. If you know of a young professional you think deserves to be nominated for this honor\, please download the nomination form and submit it no later than Friday\, August 27 with a $50 nomination fee to: Roger Breisch\, Executive DirectorBatavia Chamber of Commerce\, 106 W. Wilson Street\, Batavia\, IL 60510Email: info@bataviachamber.org                       Fax: 630-879-7215 Twenty professionals and/or entrepreneurs will be chosen from those nominated. The criteria for include:Nominee must work in Batavia or for a Chamber Member outside Batavia.Nominee must be employed at least ½ time.Nominee’s performance should indicate their commitment to sound and ethical business practices.Nominee should have made a commitment to the Fox Valley outside of their employment.
X-ALT-DESC;FMTTYPE=text/html:<DIV style="FONT-FAMILY: Arial"><FONT face="Times New Roman" size=4>Join us as we recognize the next generation of business leaders for Batavia and the Fox Valley.</FONT></DIV><DIV style="FONT-FAMILY: Arial"><FONT face="Times New Roman" size=4></FONT>&nbsp\;</DIV><P class=MsoNormal style="MARGIN: 0in 0in 0pt\; FONT-FAMILY: Arial"><FONT face="Times New Roman" size=4>The Batavia Chamber of Commerce wants to recognize&nbsp\;20 professionals under 30 years of age.&nbsp\;If you know of a young professional you think deserves to be nominated for this honor\, please download the nomination form&nbsp\;and submit it no later than Friday\, August 27 with a $50 nomination fee to:</FONT></P><P class=MsoNormal style="MARGIN: 0in 0in 0pt\; FONT-FAMILY: Arial"><?xml:namespace prefix = o ns = "urn:schemas-microsoft-com:office:office" /><o:p><FONT face="Times New Roman" size=4>&nbsp\;</FONT></o:p></P><P class=MsoNormal style="MARGIN: 0in 0in 0pt 0.5in\; FONT-FAMILY: Arial"><FONT face="Times New Roman" size=4>Roger Breisch\, Executive Director</FONT></P><P class=MsoNormal style="MARGIN: 0in 0in 0pt 0.5in\; FONT-FAMILY: Arial"><FONT face="Times New Roman"><FONT size=4><?xml:namespace prefix = st1 ns = "urn:schemas-microsoft-com:office:smarttags" /><st1:place w:st="on"><st1:City w:st="on">Batavia</st1:City></st1:place> Chamber of Commerce\, 106 W. <st1:address w:st="on"><st1:Street w:st="on">Wilson Street</st1:Street>\, <st1:City w:st="on">Batavia</st1:City>\, <st1:State w:st="on">IL</st1:State> <st1:PostalCode w:st="on">60510</st1:PostalCode></st1:address></FONT></FONT></P><P class=MsoNormal style="MARGIN: 0in 0in 0pt 0.5in\; FONT-FAMILY: Arial"><FONT face="Times New Roman" size=4>Email: info@bataviachamber.org<SPAN style="mso-tab-count: 2">&nbsp\;&nbsp\;&nbsp\;&nbsp\;&nbsp\;&nbsp\;&nbsp\;&nbsp\;&nbsp\;&nbsp\;&nbsp\;&nbsp\;&nbsp\;&nbsp\;&nbsp\;&nbsp\;&nbsp\;&nbsp\;&nbsp\;&nbsp\;&nbsp\;&nbsp\; </SPAN>Fax: 630-879-7215</FONT></P><P class=MsoNormal style="MARGIN: 0in 0in 0pt\; FONT-FAMILY: Arial"><o:p><FONT face="Times New Roman" size=4>&nbsp\;</FONT></o:p></P><P class=MsoNormal style="MARGIN: 0in 0in 0pt\; FONT-FAMILY: Arial"><FONT face="Times New Roman" size=4>Twenty professionals and/or entrepreneurs will be chosen from those nominated. The criteria for include:</FONT></P><DIV style="FONT-FAMILY: Arial"><UL style="MARGIN-TOP: 0in" type=disc><LI class=MsoNormal style="MARGIN: 0in 0in 0pt\; mso-list: l0 level1 lfo1\; tab-stops: list .5in"><SPAN style="FONT-SIZE: 11pt"><FONT face="Times New Roman"><FONT size=4>Nominee must work in <st1:City w:st="on">Batavia</st1:City> or for a Chamber Member outside <st1:City w:st="on"><st1:place w:st="on">Batavia</st1:place></st1:City>.<o:p></o:p></FONT></FONT></SPAN><LI class=MsoNormal style="MARGIN: 0in 0in 0pt\; mso-list: l0 level1 lfo1\; tab-stops: list .5in"><SPAN style="FONT-SIZE: 11pt"><FONT face="Times New Roman"><FONT size=4>Nominee must be employed at least ½ time.<o:p></o:p></FONT></FONT></SPAN><LI class=MsoNormal style="MARGIN: 0in 0in 0pt\; mso-list: l0 level1 lfo1\; tab-stops: list .5in"><SPAN style="FONT-SIZE: 11pt"><FONT face="Times New Roman"><FONT size=4>Nominee’s performance should indicate their commitment to sound and ethical business practices.<o:p></o:p></FONT></FONT></SPAN><LI class=MsoNormal style="MARGIN: 0in 0in 0pt\; mso-list: l0 level1 lfo1\; tab-stops: list .5in"><SPAN style="FONT-SIZE: 11pt"><FONT face="Times New Roman"><FONT size=4>Nominee should have made a commitment to the <st1:place w:st="on"><st1:PlaceName w:st="on">Fox</st1:PlaceName> <st1:PlaceType w:st="on">Valley</st1:PlaceType></st1:place> outside of their employment.</FONT></FONT></SPAN></LI></UL></DIV><P class=MsoNormal style="MARGIN: 0in 0in 0pt\; mso-list: l0 level1 lfo1\; tab-stops: list .5in"><SPAN style="FONT-SIZE: 11pt"><FONT face="Times New Roman"><FONT size=4><o:p></o:p></FONT></FONT></SPAN>&nbsp\;</P>
LOCATION:Lincoln Inn Banquets
UID:e.1902.1168
SEQUENCE:3
DTSTAMP:20260420T071958Z
URL:https://business.bataviachamber.org/events/details/20-under-30-recognition-dinner-09-23-2010-1168
END:VEVENT

END:VCALENDAR
