BEGIN:VCALENDAR
VERSION:2.0
PRODID:-//ChamberMaster//Event Calendar 2.0//EN
METHOD:PUBLISH
X-PUBLISHED-TTL:P3D
REFRESH-INTERVAL:P3D
CALSCALE:GREGORIAN
BEGIN:VEVENT
DTSTART:20100319T050000Z
DTEND:20100319T050000Z
X-MICROSOFT-CDO-ALLDAYEVENT:FALSE
SUMMARY:1st Annual Night of Jazz
DESCRIPTION:The Batavia Music Buffs is hosting an exciting evening of dinner\, music\, and dancing to help supportthe music programs of the Batavia schools. The “1st Annual Night of Jazz” will be held on Friday\, March 19\, 2010\, from 6:30-10:30\, at the Pipefitters Banquet Hall\, located at the corner of Butterfield and Church Road. The evening promises to be entertaining\, as the music will be performed by the Batavia High School and Rotolo Middle School jazz bands and vocal ensembles. There will also be a silent auction and raffle. Tickets for the event may be purchased through www.bataviamusicbuffs.org .
X-ALT-DESC;FMTTYPE=text/html:The Batavia Music Buffs is hosting an exciting evening of dinner\, music\, and dancing to help supportthe music programs of the Batavia schools. The “1st Annual Night of Jazz” will be held on Friday\, March 19\, 2010\, from 6:30-10:30\, at the Pipefitters Banquet Hall\, located at the corner of Butterfield and Church Road. The evening promises to be entertaining\, as the music will be performed by the Batavia High School and Rotolo Middle School jazz bands and vocal ensembles. There will also be a silent auction and raffle. Tickets for the event may be purchased through www.bataviamusicbuffs.org .
LOCATION:Pipefitter's Banquet Hall
UID:e.1902.1084
SEQUENCE:3
DTSTAMP:20260420T162515Z
URL:https://business.bataviachamber.org/events/details/1st-annual-night-of-jazz-03-19-2010-1084
END:VEVENT

END:VCALENDAR
