BEGIN:VCALENDAR
VERSION:2.0
PRODID:-//ChamberMaster//Event Calendar 2.0//EN
METHOD:PUBLISH
X-PUBLISHED-TTL:P3D
REFRESH-INTERVAL:P3D
CALSCALE:GREGORIAN
BEGIN:VEVENT
DTSTART:20191204T110000Z
DTEND:20191204T150000Z
X-MICROSOFT-CDO-ALLDAYEVENT:FALSE
SUMMARY:10th Annual Holiday Lights at Mooseheart
DESCRIPTION:Join us for the 10th Annual Holiday Lights at Mooseheart!  A tradition for over 15\,000 families in the Fox River Valley each year. You will love driving through the 1.8 miles of beautiful holiday displays on Mooseheart's historic campus!\n\n\n\nIn addition\, December 13-15 and December 20-22 from 5:30 pm - 8:30 pm are all FREE Santa nights! After driving through the lights you are welcome to join us for cookies\, cocoa\, and pictures with Santa in the Fieldhouse!    \n\n\n\nSponsorship opportunities for the holiday lights are also available.
X-ALT-DESC;FMTTYPE=text/html:<strong><span style="color:red"><span style="font-family:arial\,sans-serif"><span style="font-size:10.0pt">Join us for the 10th Annual Holiday Lights at Mooseheart!&nbsp\;&nbsp\;</span></span></span></strong><span style="color:#333333"><span style="font-family:arial\,sans-serif"><span style="font-size:10.0pt">A tradition for over 15\,000 families in the Fox River Valley each year. You will love driving through the 1.8 miles of beautiful holiday displays on Mooseheart&#39\;s historic campus!</span></span></span><br />\n<br />\n<strong><span style="color:red"><span style="font-family:arial\,sans-serif"><span style="font-size:10.0pt">In addition\, December 13-15 and December 20-22 from 5:30 pm - 8:30 pm are all FREE Santa nights!&nbsp\;</span></span></span></strong><span style="color:#333333"><span style="font-family:arial\,sans-serif"><span style="font-size:10.0pt">After driving through the lights you are welcome to join us for cookies\, cocoa\, and pictures with Santa in the Fieldhouse!&nbsp\; &nbsp\;&nbsp\;</span></span></span><br />\n<br />\n<strong><u><span style="color:#333333"><span style="font-family:arial\,sans-serif"><span style="font-size:10.0pt"><a href="http://support.moosecharities.org/holidaylights2019" target="_blank">Sponsorship opportunities for the holiday lights are also available.&nbsp\;</a></span></span></span></u></strong><br />\n&nbsp\;
LOCATION:Mooseheart Child City & School Route 31 & Mooseheart Road Mooseheart\, IL 60539
UID:e.1902.11146
SEQUENCE:3
DTSTAMP:20260423T043059Z
URL:https://business.bataviachamber.org/events/details/10th-annual-holiday-lights-at-mooseheart-12-04-2019-11146
END:VEVENT

END:VCALENDAR
