BEGIN:VCALENDAR
VERSION:2.0
PRODID:-//ChamberMaster//Event Calendar 2.0//EN
METHOD:PUBLISH
X-PUBLISHED-TTL:P3D
REFRESH-INTERVAL:P3D
CALSCALE:GREGORIAN
BEGIN:VEVENT
DTSTART:20250608T140000Z
DTEND:20250608T170000Z
X-MICROSOFT-CDO-ALLDAYEVENT:FALSE
SUMMARY:Yoga and Mental Health Workshop
DESCRIPTION:Yoga and Mental Health Workshop\n\nSunday\, June 8th at 9am to 12pm\n\nBy combining Yoga and Mental Health\, we address every layer of a person's being. We can help clients process emotions that arise on the mat\, recognize and challenge deeply engrained belief systems\, and work with a Mental Health Therapist to release them.\n\nThis integrated approach allows individuals to reach their full potential and access higher levels of consciousness that may not be possible without a combined effort.\n\nWorkshop will include Asana\, Pranayama\, Meditation as well Lecture and Q & A session.\n\nThis workshop is for Mental Health Therapists\, Practitioners\, Yoga Instructors\, Professionals\, and more who are interested in the connection between yoga and mental health\, how to integrate into client care\, and why it's important.\n\nTime: 3 Hours\n\nPractitioners: Tricia Fiske\, E-RYT 500\, YAECP\, Senior Faculty for Tantra Yoga Alchemy Instructor & Jamie Kruse\, LCSW\n\nInvestment: $65\n\nLocation: Torus Center for Integrative Healing 121 Flinn St Batavia\, IL 60510\n\nAnd check out our Yoga for Mental Health Teacher Training\, starting in September 2025. A Yoga Teacher Training that integrates the mental health approach for deeper empowerment\, healing\, and transformation.\n\nLearn more about the Teacher Training: https://torus-center.com/teacher-training/\n\nThis training is also eligible for Continuing Education credits through Yoga Alliance and Tricia Fiske as the instructor. Credits reflect the number of hours attended. After the completion of the training\, reach out to Yoga Alliance with the details of the course. We can provide additional information on this process.
X-ALT-DESC;FMTTYPE=text/html:<h3>Yoga and Mental Health Workshop</h3>\n\n<p><strong>Sunday\, June 8th at 9am to 12pm</strong></p>\n\n<p>By combining Yoga and Mental Health\, we address every layer of a person&rsquo\;s being. We can help clients process emotions that arise on the mat\, recognize and challenge deeply engrained belief systems\, and work with a Mental Health Therapist to release them.</p>\n\n<p>This integrated approach allows individuals to reach their full potential and access higher levels of consciousness that may not be possible without a combined effort.</p>\n\n<p>Workshop will include Asana\, Pranayama\, Meditation as well Lecture and Q &amp\; A session.</p>\n\n<p>This workshop is for Mental Health Therapists\, Practitioners\, Yoga Instructors\, Professionals\, and more who are interested in the connection between yoga and mental health\, how to integrate into client care\, and why it&rsquo\;s important.</p>\n\n<p><strong>Time:</strong>&nbsp\;3 Hours</p>\n\n<p><strong>Practitioners:</strong>&nbsp\;<a href="https://torus-center.com/about-torus-center-for-integrative-healing/" style="box-sizing: inherit\; text-decoration-line: none\; color: var(--tec-color-link-primary)\; outline: none\; border-bottom: 1px solid var(--tec-color-link-accent)\; transition: var(--tec-transition-color)\;">Tricia Fiske</a>\, E-RYT 500\, YAECP\, Senior Faculty for Tantra Yoga Alchemy Instructor &amp\;&nbsp\;<a href="https://torus-center.com/about-torus-center-for-integrative-healing/" style="box-sizing: inherit\; text-decoration-line: none\; color: var(--tec-color-link-primary)\; outline: none\; border-bottom: 1px solid var(--tec-color-link-accent)\; transition: var(--tec-transition-color)\;">Jamie Kruse</a>\, LCSW</p>\n\n<p><strong>Investment:</strong>&nbsp\;$65</p>\n\n<p><strong>Location:&nbsp\;</strong>Torus Center for Integrative Healing 121 Flinn St Batavia\, IL 60510</p>\n\n<p>And check out our Yoga for Mental Health Teacher Training\, starting in September 2025. A Yoga Teacher Training that integrates the mental health approach for deeper empowerment\, healing\, and transformation.</p>\n\n<p>Learn more about the Teacher Training:&nbsp\;https://torus-center.com/teacher-training/</p>\n\n<p><small><span style="font-family:arial\,helvetica\,sans-serif"><span style="font-size:14px"><span style="color:rgb(20\, 24\, 39)">This training is also eligible for Continuing Education credits through Yoga Alliance and Tricia Fiske as the instructor. Credits reflect the number of hours attended. After the completion of the training\, reach out to Yoga Alliance with the details of the course. We can provide additional information on this process.</span></span></span></small></p>\n
LOCATION:Torus Center for Integrative Healing 121 Flinn St Batavia\, IL 60510
UID:e.1902.29495
SEQUENCE:3
DTSTAMP:20260422T083425Z
URL:http://business.bataviachamber.org/events/details/yoga-and-mental-health-workshop-06-08-2025-29495
END:VEVENT

END:VCALENDAR
