BEGIN:VCALENDAR
VERSION:2.0
PRODID:-//ChamberMaster//Event Calendar 2.0//EN
METHOD:PUBLISH
X-PUBLISHED-TTL:P3D
REFRESH-INTERVAL:P3D
CALSCALE:GREGORIAN
BEGIN:VEVENT
DTSTART:20100303T173000Z
DTEND:20100303T193000Z
X-MICROSOFT-CDO-ALLDAYEVENT:FALSE
SUMMARY:WSCCE Lunch - March 3\, 2010
DESCRIPTION:Join us March 3 for the Monthly West Suburban Chamber of Commerce Executives Lunch. Come with your ideas about improving the future of Chambers of Commerce. NOTE\; This lunch is ONLY for Chamber of Commerce Executives and Presidents. I have an interesting perspective from the Gatorade experience I will elaborate on at the meeting\, but in a nutshell\, what they discovered is that the more they narrowed and focused their marketing message\, the larger their market grew! Seems counter intuitive right? I'll explain why it is not. But\, if that logic holds\, how would we narrow our marketing messages?  They also learned that vision is all about sacrifice...you cannot be all things to all people\, so who are you serving? Let's talk some more?
X-ALT-DESC;FMTTYPE=text/html:<DIV align=left>Join us March 3 for the Monthly West Suburban Chamber of Commerce Executives Lunch. Come with your ideas about improving the future of Chambers of Commerce. <STRONG><EM><U>NOTE\; This lunch is ONLY for Chamber of Commerce Executives and Presidents.</U></EM></STRONG></DIV><DIV align=left>&nbsp\;</DIV><DIV align=left>I have an interesting perspective from the Gatorade experience I will elaborate on at the meeting\, but in a nutshell\, what they discovered is that the more they narrowed and focused their marketing message\, the larger their market grew! Seems counter intuitive right? I'll explain why it is not. But\, if that logic holds\, how would we narrow our marketing messages?&nbsp\; They also learned that vision is all about sacrifice...you cannot be all things to all people\, so who are you serving?</DIV><DIV align=left>&nbsp\;</DIV><DIV align=left>Let's talk some more?</DIV>
LOCATION:The RendezVu
UID:e.1902.1868
SEQUENCE:3
DTSTAMP:20260421T021726Z
URL:http://business.bataviachamber.org/events/details/wscce-lunch-march-3-2010-03-03-2010-1868
END:VEVENT

END:VCALENDAR
