BEGIN:VCALENDAR
VERSION:2.0
PRODID:-//ChamberMaster//Event Calendar 2.0//EN
METHOD:PUBLISH
X-PUBLISHED-TTL:P3D
REFRESH-INTERVAL:P3D
CALSCALE:GREGORIAN
BEGIN:VEVENT
DTSTART:20081113T173000Z
DTEND:20081113T190000Z
X-MICROSOFT-CDO-ALLDAYEVENT:FALSE
SUMMARY:Workers Compensation...Is it Working For or Against You
DESCRIPTION:Many companies assume Worker's Compensation Insurance is an unmanageable expense and necessary evil. But a well-informed business owner\, or HR professional\, can manage Worker's Comp to benefit the bottom line. Join us for the November Chamber lunch to hear Dennis Powers and James Moran tell us how. Dennis and James will focus on three critical issues:1. What exactly is Worker's Comp Insurance and why do you need it? \n2. What are the critical ways YOU need to manage Worker's Comp to minimize its impact on the organization's financials? \n3. How is the State of Illinois renewing its efforts to help you battle Worker's Comp fraud? Dennis Powers is a 14 year veteran of the insurance industry with a background in fraud investigation and claims management and is a Senior Account Representative with Liberty Mutual. James Moran\, an attorney with 13 years experience defending employers in Workers’ Compensation cases throughout Illinois\, will be available to answer questions and to provide a legal perspective
X-ALT-DESC;FMTTYPE=text/html:<FONT face=Arial><FONT color=#0000ff><P align=left><FONT face="Times New Roman" color=#0000ff size=4>Many companies assume Worker's Compensation Insurance is an unmanageable expense and necessary evil. But a well-informed business owner\, or HR professional\, can manage Worker's Comp to benefit the bottom line. Join us for the November Chamber lunch to hear Dennis Powers and James Moran tell us how. Dennis and James will focus on three critical issues:</FONT></P><OL><P align=left><FONT face="Times New Roman"><FONT size=4><FONT color=#0000ff>1. What exactly is Worker's Comp Insurance and why do you need it?</FONT> <BR><FONT color=#0000ff>2. What are the critical ways YOU need to manage Worker's Comp to minimize its impact on the organization's financials?</FONT> <BR><FONT color=#0000ff>3. How is the State of Illinois renewing its efforts to help you battle Worker's Comp fraud?</FONT> </FONT></FONT></P></OL><P align=left><FONT face="Times New Roman"><FONT size=4><FONT color=#0000ff>Dennis Powers is a 14 year veteran of the insurance industry with a background in fraud investigation and claims management and is a Senior Account Representative with Liberty Mutual. James Moran\,</FONT> <FONT color=#0000ff>an attorney with 13 years experience defending employers in Workers’ Compensation cases throughout Illinois\, will be available to answer questions and to provide a legal perspective</FONT></FONT></FONT></P></FONT></FONT>
LOCATION:Riverview Banquets
UID:e.1902.1527
SEQUENCE:3
DTSTAMP:20260422T063130Z
URL:http://business.bataviachamber.org/events/details/workers-compensation-is-it-working-for-or-against-you-11-13-2008-1527
END:VEVENT

END:VCALENDAR
