BEGIN:VCALENDAR
VERSION:2.0
PRODID:-//ChamberMaster//Event Calendar 2.0//EN
METHOD:PUBLISH
X-PUBLISHED-TTL:P3D
REFRESH-INTERVAL:P3D
CALSCALE:GREGORIAN
BEGIN:VEVENT
DTSTART:20250425T230000Z
DTEND:20250426T040000Z
X-MICROSOFT-CDO-ALLDAYEVENT:FALSE
SUMMARY:Variety Starlight Soiree: Illuminating Abilities
DESCRIPTION:We are honored and overjoyed to partner with @varietyofillinois for an amazing cause! Variety is dedicated to helping children with disabilities and their families feel included in their communities. Through impactful programs like Variety@Play and Build-A-Bike\, they empower children to be active\, be social\, and belong.\n\n\n\nSave the date: April 25\, 2025\, for a magnificent gala to support this mission and make a difference in these children's lives!\n\n\n\nVenue details:\n\nLocation: Belvedere Events and Catering\n\nAddress: Elk Grove Village\n\nTime: Details coming soon!\n\n\n\nThis is more than an event it's an opportunity to create lasting impact. Follow along as we share behind-the-scenes moments in planning this unforgettable evening.
X-ALT-DESC;FMTTYPE=text/html:<span style="color:rgb(34\, 34\, 34)\; font-family:arial\,helvetica\,sans-serif\; font-size:small">We are honored and overjoyed to partner with @varietyofillinois for an amazing cause! Variety is dedicated to helping children with disabilities and their families feel included in their communities. Through impactful programs like Variety@Play and Build-A-Bike\, they empower children to be active\, be social\, and belong.</span><br />\n<br />\n<span style="color:rgb(34\, 34\, 34)\; font-family:arial\,helvetica\,sans-serif\; font-size:small">Save the date: April 25\, 2025\, for a magnificent gala to support this mission and make a difference in these children&rsquo\;s lives!</span><br />\n<br />\n<span style="color:rgb(34\, 34\, 34)\; font-family:arial\,helvetica\,sans-serif\; font-size:small">Venue details:</span><br />\n<span style="color:rgb(34\, 34\, 34)\; font-family:arial\,helvetica\,sans-serif\; font-size:small">Location: Belvedere Events and Catering</span><br />\n<span style="color:rgb(34\, 34\, 34)\; font-family:arial\,helvetica\,sans-serif\; font-size:small">Address: Elk Grove Village</span><br />\n<span style="color:rgb(34\, 34\, 34)\; font-family:arial\,helvetica\,sans-serif\; font-size:small">Time: Details coming soon!</span><br />\n<br />\n<span style="color:rgb(34\, 34\, 34)\; font-family:arial\,helvetica\,sans-serif\; font-size:small">This is more than an event&mdash\;it&rsquo\;s an opportunity to create lasting impact. Follow along as we share behind-the-scenes moments in planning this unforgettable evening.</span>
LOCATION:Belvedere Events and Catering 1170 W Devon Ave Elk Grove Village IL
UID:e.1902.26814
SEQUENCE:3
DTSTAMP:20260422T113621Z
URL:http://business.bataviachamber.org/events/details/variety-starlight-soiree-illuminating-abilities-26814
END:VEVENT

END:VCALENDAR
