BEGIN:VCALENDAR
VERSION:2.0
PRODID:-//ChamberMaster//Event Calendar 2.0//EN
METHOD:PUBLISH
X-PUBLISHED-TTL:P3D
REFRESH-INTERVAL:P3D
CALSCALE:GREGORIAN
BEGIN:VEVENT
DTSTART;VALUE=DATE:20080915
DTEND;VALUE=DATE:20080916
TRANSP:TRANSPARENT
X-MICROSOFT-CDO-ALLDAYEVENT:TRUE
SUMMARY:Valley Industrial Association Annual Golf Outing
DESCRIPTION:Valley Industrial Association\, a trade association representing manufacturers in the Fox Valley\, will be hosting its annual golf outing on Monday\, September 15.   The event will be held at the Elgin Country Club\, 2575 Weld Rd.\, Elgin.  MB Financial is the major sponsor of the outing\, with a variety of sponsorships still available.  Refer to www.VIAassn.org  or call 630.892.4228 for more details\, to make reservations and to learn about other sponsorship opportunities.  This event is always a sellout!
X-ALT-DESC;FMTTYPE=text/html:<SPAN style="FONT-SIZE: 12pt\; COLOR: #1f497d\; FONT-FAMILY: 'Times New Roman'\; mso-bidi-font-size: 11.0pt\; mso-fareast-font-family: 'Times New Roman'\; mso-ansi-language: EN-US\; mso-fareast-language: EN-US\; mso-bidi-language: AR-SA">Valley Industrial Association\, a trade association representing manufacturers in the <?xml:namespace prefix = st1 ns = "urn:schemas-microsoft-com:office:smarttags" /><st1:place w:st="on"><st1:PlaceName w:st="on">Fox</st1:PlaceName> <st1:PlaceType w:st="on">Valley</st1:PlaceType></st1:place>\, will be hosting its annual golf outing on Monday\, September 15.<SPAN style="mso-spacerun: yes">&nbsp\;&nbsp\; </SPAN>The event will be held at the Elgin Country Club\, <st1:address w:st="on"><st1:Street w:st="on"><st1:address w:st="on">2575 Weld Rd.</st1:address></st1:Street>\, <st1:City w:st="on">Elgin</st1:City></st1:address>.<SPAN style="mso-spacerun: yes">&nbsp\; </SPAN>MB Financial is the major sponsor of the outing\, with a variety of sponsorships still available.<SPAN style="mso-spacerun: yes">&nbsp\; </SPAN>Refer to <A href="http://www.viaassn.org/"><FONT color=#800080>www.VIAassn.org</FONT></A><SPAN style="mso-spacerun: yes">&nbsp\; </SPAN>or call 630.892.4228 for more details\, to make reservations and to learn about other sponsorship opportunities.<SPAN style="mso-spacerun: yes">&nbsp\; </SPAN>This event is always a sellout! </SPAN><DIV>&nbsp\;</DIV>
LOCATION:Elgin Country Club
UID:e.1902.1575
SEQUENCE:3
DTSTAMP:20260422T100022Z
URL:http://business.bataviachamber.org/events/details/valley-industrial-association-annual-golf-outing-09-15-2008-1575
END:VEVENT

END:VCALENDAR
