BEGIN:VCALENDAR
VERSION:2.0
PRODID:-//ChamberMaster//Event Calendar 2.0//EN
METHOD:PUBLISH
X-PUBLISHED-TTL:P3D
REFRESH-INTERVAL:P3D
CALSCALE:GREGORIAN
BEGIN:VEVENT
DTSTART:20250310T230000Z
DTEND:20250311T000000Z
X-MICROSOFT-CDO-ALLDAYEVENT:FALSE
SUMMARY:Understanding Colon Cancer with a Q & A Session
DESCRIPTION:This medical presentation will provide an in-depth overview of colon cancer\, including its causes\, symptoms\, and the latest advancements in treatment options. A question-and-answer session will follow\, allowing you to receive guidance and expert advice.
X-ALT-DESC;FMTTYPE=text/html:<span style="color:#342F2E"><span style="font-family:aptos"><span style="font-size:13.0pt">This medical presentation will provide an in-depth overview of colon cancer\, including its causes\, symptoms\, and the latest advancements in treatment options.&nbsp\;</span></span></span><span style="color:#342F2E"><span style="font-family:aptos"><span style="font-size:13.0pt">A question-and-answer session will follow\, allowing you to receive guidance and expert advice.</span></span></span>
LOCATION:https://events.teams.microsoft.com/event/c3a13369-dccc-4657-8123-9fdfe4e65f38@2596038f-3ea4-4f0c-aed1-066eb6544c3b
UID:e.1902.29362
SEQUENCE:3
DTSTAMP:20260422T131455Z
URL:http://business.bataviachamber.org/events/details/understanding-colon-cancer-with-a-q-a-session-29362
END:VEVENT

END:VCALENDAR
