BEGIN:VCALENDAR
VERSION:2.0
PRODID:-//ChamberMaster//Event Calendar 2.0//EN
METHOD:PUBLISH
X-PUBLISHED-TTL:P3D
REFRESH-INTERVAL:P3D
CALSCALE:GREGORIAN
BEGIN:VEVENT
DTSTART:20250620T003000Z
DTEND:20250622T040000Z
X-MICROSOFT-CDO-ALLDAYEVENT:FALSE
SUMMARY:Troy Bond Stand Up Comedy
DESCRIPTION:Catch Troy Bond at The Comedy Vault\, June 19-21! Known for his sharp crowdwork\, spot-on impressions\, and viral social media comedy\, Troy was a 2023 Just for Laughs New Face. Don't miss this rising star's hilarious headlining shows!
X-ALT-DESC;FMTTYPE=text/html:Catch Troy Bond at The Comedy Vault\, June 19-21! Known for his sharp crowdwork\, spot-on impressions\, and viral social media comedy\, Troy was a 2023 Just for Laughs New Face. Don&#39\;t miss this rising star&#39\;s hilarious headlining shows!
LOCATION:The Comedy Vault 18 E. Wilson Street Batavia\, Il 60510
UID:e.1902.26802
SEQUENCE:3
DTSTAMP:20260422T082105Z
URL:http://business.bataviachamber.org/events/details/troy-bond-stand-up-comedy-26802
END:VEVENT

END:VCALENDAR
