BEGIN:VCALENDAR
VERSION:2.0
PRODID:-//ChamberMaster//Event Calendar 2.0//EN
METHOD:PUBLISH
X-PUBLISHED-TTL:P3D
REFRESH-INTERVAL:P3D
CALSCALE:GREGORIAN
BEGIN:VEVENT
DTSTART:20170929T210000Z
DTEND:20170930T000000Z
X-MICROSOFT-CDO-ALLDAYEVENT:FALSE
SUMMARY:TriCity Family Services' 50th Anniversary Open House
DESCRIPTION:Happy Anniversary\, TriCity Family Services!\n\n\n\nFifty years ago\, TriCity Family Services (TCFS) was founded through the foresight and leadership of local individuals who cared for our youth\, our families and the mental health needs of our community. This anniversary is a milestone honoring a legacy of excellence that has always put people first.\n\n\n\nPlease join TCFS in celebrating its 50th anniversary complete with complimentary hors d'oeuvres (furnished by Rob Mondi of Abby's Breakfast & Lunch)\, beverages and fellowship in celebration of this proud history. A speaking program will take place at 5:30 pm\, which will include a joint mayoral proclamation and Chamber of Commerce ribbon cutting.
X-ALT-DESC;FMTTYPE=text/html:<em><strong>Happy Anniversary\, TriCity Family Services!</strong></em><br />\n<br />\nFifty years ago\, TriCity Family Services (TCFS) was founded through the foresight and leadership of local individuals who cared for our youth\, our families and the mental health needs of our community. This anniversary is a milestone honoring a legacy of excellence that has always put people first.<br />\n<br />\n<strong>Please join TCFS in celebrating its 50th anniversary complete with complimentary hors d&#39\;oeuvres (furnished by Rob Mondi of Abby&#39\;s Breakfast &amp\; Lunch)\, beverages and fellowship in celebration of this proud history. A speaking program will take place at 5:30 pm\, which will include a joint mayoral proclamation and Chamber of Commerce ribbon cutting.</strong>
LOCATION:TriCity Family Services Main Office 1120 Randall Court Geneva
UID:e.1902.6972
SEQUENCE:3
DTSTAMP:20260422T100113Z
URL:http://business.bataviachamber.org/events/details/tricity-family-services-50th-anniversary-open-house-6972
END:VEVENT

END:VCALENDAR
