BEGIN:VCALENDAR
VERSION:2.0
PRODID:-//ChamberMaster//Event Calendar 2.0//EN
METHOD:PUBLISH
X-PUBLISHED-TTL:P3D
REFRESH-INTERVAL:P3D
CALSCALE:GREGORIAN
BEGIN:VEVENT
DTSTART:20250515T003000Z
DTEND:20250516T023000Z
X-MICROSOFT-CDO-ALLDAYEVENT:FALSE
SUMMARY:Trailer Trash Tammy LIVE Stand Up Comedy
DESCRIPTION:Special Event: Trailer Trash Tammy Live\n\nChelcie Lynn is a comedian\, actress\, and internet personality who was recently named one of Variety's 2021 Top 10 Comics To Watch. She started building a fan base in 2014 when her sketches featuring her alter ego\, Trailer Trash Tammy went viral. Her videos have since gained hundreds of millions of views across the internet and have launched her career on screen and in comedy touring. She can be seen in the Duplass Brothers feature film Tangerine as 'Madame Jillian'\, and recently starred in the digital series Coach Von Pidgeon for Funny or Die & Facebook Watch. Catch her on tour at The Comedy Vault May 14-15!
X-ALT-DESC;FMTTYPE=text/html:Special Event: Trailer Trash Tammy Live<br />\nChelcie Lynn is a comedian\, actress\, and internet personality who was recently named one of Variety&rsquo\;s 2021 Top 10 Comics To Watch. She started building a fan base in 2014 when her sketches featuring her alter ego\, Trailer Trash Tammy went viral. Her videos have since gained hundreds of millions of views across the internet and have launched her career on screen and in comedy touring. She can be seen in the Duplass Brothers feature film Tangerine as &lsquo\;Madame Jillian&rsquo\;\, and recently starred in the digital series Coach Von Pidgeon for Funny or Die &amp\; Facebook Watch. Catch her on tour at The Comedy Vault May 14-15!
LOCATION:The Comedy Vault 18 E. Wilson Street Batavia\, IL 60510
UID:e.1902.29368
SEQUENCE:3
DTSTAMP:20260422T101655Z
URL:http://business.bataviachamber.org/events/details/trailer-trash-tammy-live-stand-up-comedy-29368
END:VEVENT

END:VCALENDAR
