BEGIN:VCALENDAR
VERSION:2.0
PRODID:-//ChamberMaster//Event Calendar 2.0//EN
METHOD:PUBLISH
X-PUBLISHED-TTL:P3D
REFRESH-INTERVAL:P3D
CALSCALE:GREGORIAN
BEGIN:VEVENT
DTSTART:20250221T000000Z
DTEND:20250221T011500Z
X-MICROSOFT-CDO-ALLDAYEVENT:FALSE
SUMMARY:Tired of Feeling Stuck? Hear How to Unlock Abundance in Your Relationships & Finances!
DESCRIPTION:In this transformative workshop\, you'll discover:\n\n\n	Relationship Mastery: Deepen connection\, reignite passion\, and build lasting love\n	Financial Empowerment: Gain clarity on your financial goals\, create a budget that works\n	Mindset Shift: Overcome limiting beliefs about love and money\n	Actionable Strategies: Leave with practical tools to create positive change in your relationships and finances.\n	\n	\n\n	This workshop is perfect for:\n	\n	Individuals looking to attract a loving and fulfilling relationship.\n	Couples seeking to strengthen their bond and build a financial future together.\n	Anyone wanting to take control of their finances and achieve their financial goals.\n	\n	Join financial advisor\, Alexis Benson\, and expert relationship coach\, Melissa Williams\, for this empowering workshop and start creating the life you truly desire!
X-ALT-DESC;FMTTYPE=text/html:<h2><u><strong><span style="font-family:aptos display\,sans-serif">In this transformative workshop\, you&#39\;ll discover:</span></strong></u></h2>\n\n<ul>\n	<li><strong><span style="font-family:aptos display\,sans-serif">Relationship Mastery:</span></strong><span style="font-family:aptos display\,sans-serif">&nbsp\;Deepen connection\, reignite passion\, and build lasting love</span></li>\n	<li><span style="font-family:aptos display\,sans-serif"><strong>Financial Empowerment:</strong>&nbsp\;</span><span style="font-family:aptos display\,sans-serif">Gain clarity on your financial goals\, create a budget that works</span></li>\n	<li><strong><span style="font-family:aptos display\,sans-serif">Mindset Shift:&nbsp\;</span></strong><span style="font-family:aptos display\,sans-serif">Overcome limiting beliefs about love and money</span></li>\n	<li><strong><span style="font-family:aptos display\,sans-serif">Actionable Strategies:&nbsp\;</span></strong><span style="font-family:aptos display\,sans-serif">Leave with practical tools to create positive change in your relationships and finances.</span>\n	<hr />\n	<h2><br />\n	<strong><span style="font-family:aptos display\,sans-serif"><span style="font-family:aptos display\,sans-serif"><u>This workshop is perfect for:</u></span></span></strong></h2>\n	</li>\n	<li><span style="font-family:aptos display\,sans-serif">Individuals looking to attract a loving and fulfilling relationship.</span></li>\n	<li><span style="font-family:aptos display\,sans-serif">Couples seeking to strengthen their bond and build a financial future together.</span></li>\n	<li><span style="font-family:aptos display\,sans-serif">Anyone wanting to take control of their finances and achieve their financial goals.</span>\n	<hr />\n	<h3 style="text-align:center"><span style="font-size:18px"><span style="font-family:aptos display\,sans-serif"><strong>Join financial advisor\, Alexis Benson\, and expert relationship coach\, Melissa Williams\, for this empowering workshop and start creating the life you truly desire!</strong></span></span></h3>\n	</li>\n</ul>\n
LOCATION:Geneva Public Library Conference Room (1st Floor) 227 S. 7th Street Geneva\, IL 60134
UID:e.1902.29345
SEQUENCE:3
DTSTAMP:20260422T150637Z
URL:http://business.bataviachamber.org/events/details/tired-of-feeling-stuck-unlocking-abundance-in-your-relationships-finances-29345
END:VEVENT

END:VCALENDAR
