BEGIN:VCALENDAR
VERSION:2.0
PRODID:-//ChamberMaster//Event Calendar 2.0//EN
METHOD:PUBLISH
X-PUBLISHED-TTL:P3D
REFRESH-INTERVAL:P3D
CALSCALE:GREGORIAN
BEGIN:VEVENT
DTSTART:20100415T130000Z
DTEND:20100415T143000Z
X-MICROSOFT-CDO-ALLDAYEVENT:FALSE
SUMMARY:TimeWISE: Leveraging Your Time with Craig Lowder - Session 1
DESCRIPTION:TimeWISE: Leveraging Your Time 1. Do YOU want to have more time during the work day? \n2. Do YOU want to stop leaving work feeling stressed out because you’re never able to complete the things YOU intended to get done?  3. Do YOU want to spend to less time in your business\, leaving YOU more time to spend on things YOU really enjoy in life?  4. Do YOU want to be able to get large projects completed on-time and at the quality level YOU desire?  5. Do YOU want your business to work for YOU versus the other way around?  If YOU answered “Yes” to any of these questions\, this workshop is for YOU\; you’ll leave this workshop with ideas that you can immediately implement to resolve your time management issues and improve your quality of life.\nIn this workshop participants will learn … how to allocate and manage the use of their time more effectively by gaining an understanding of the principles behind the “Time Target”\, in addition to learning how to conduct a “Time Audit”\, develop a “Default Diary” and a “Default Calendar”\, and create a “Project Plan”. Participants will receive … four tools they can use to manage (invest) their time more effectively.
X-ALT-DESC;FMTTYPE=text/html:<DIV style="FONT-FAMILY: Arial" align=center><FONT face="Times New Roman" color=#000080 size=5><STRONG>TimeWISE: Leveraging Your Time</STRONG></FONT></DIV><DIV style="FONT-FAMILY: Arial" align=center><STRONG><FONT face="Times New Roman" color=#000080 size=5></FONT></STRONG>&nbsp\;</DIV><DIV style="FONT-FAMILY: Arial" align=left><FONT face="Times New Roman" color=#0000ff size=4><STRONG>1.&nbsp\;Do YOU want to have more time during the work day?&nbsp\;</STRONG></FONT></DIV><FONT color=#0000ff size=4><STRONG><DIV style="FONT-FAMILY: Arial" align=left><BR><FONT face="Times New Roman">2.&nbsp\;Do YOU want to stop leaving work feeling stressed out because you’re never able to complete the things YOU intended to get done? </FONT></DIV><DIV style="FONT-FAMILY: Arial" align=left><FONT face="Times New Roman"></FONT>&nbsp\;</DIV><DIV style="FONT-FAMILY: Arial" align=left><FONT face="Times New Roman">3.&nbsp\;Do YOU want to spend to less time in your business\, leaving YOU more time to spend on things YOU really enjoy in life? </FONT></DIV><DIV style="FONT-FAMILY: Arial" align=left><FONT face="Times New Roman"></FONT>&nbsp\;</DIV><DIV style="FONT-FAMILY: Arial" align=left><FONT face="Times New Roman">4.&nbsp\;Do YOU want to be able to get large projects completed on-time and at the quality level YOU desire? </FONT></DIV><DIV style="FONT-FAMILY: Arial" align=left><FONT face="Times New Roman"></FONT>&nbsp\;</DIV><DIV style="FONT-FAMILY: Arial" align=left><FONT face="Times New Roman">5.&nbsp\;Do YOU want your business to work for YOU versus the other way around? </FONT></STRONG></FONT></DIV><DIV style="FONT-FAMILY: Arial" align=left><FONT face="Times New Roman" color=#0000ff size=4><STRONG></STRONG></FONT>&nbsp\;</DIV><DIV style="FONT-FAMILY: Arial" align=left><FONT face="Times New Roman"><FONT color=#0000ff size=4><STRONG><FONT color=#0000ff><STRONG><FONT face="Times New Roman" size=4>If YOU answered “Yes” to any of these questions\, this workshop is for YOU\; you’ll leave this workshop with ideas that you can immediately implement to resolve your time management issues and improve your quality of life.</FONT></STRONG></FONT></STRONG></FONT></FONT></DIV><DIV style="FONT-FAMILY: Arial" align=left><FONT face="Times New Roman"><FONT color=#0000ff size=4><STRONG><FONT color=#0000ff><STRONG><FONT face="Times New Roman" size=4><BR></FONT></STRONG></FONT>In this workshop participants <EM><FONT color=#800040>will learn</FONT></EM> … how to allocate and manage the use of their time more effectively by gaining an understanding of the principles behind the “Time Target”\, in addition to learning how to conduct a “Time Audit”\, develop a “Default Diary” and a “Default Calendar”\, and create a “Project Plan”. P</STRONG></FONT><FONT color=#0000ff size=4><STRONG>articipants <EM><FONT color=#800040>will receive</FONT></EM> … four tools they can use to manage (invest) their time more effectively.&nbsp\; </STRONG></FONT></FONT></DIV><DIV style="FONT-FAMILY: Arial" align=left><STRONG><FONT face="Times New Roman" color=#0000ff size=4></FONT></STRONG>&nbsp\;</DIV><DIV style="FONT-FAMILY: Arial" align=left><FONT face="Times New Roman" color=#0000ff size=4><STRONG>&nbsp\;&nbsp\;</STRONG></FONT><FONT color=#0000ff><STRONG></DIV></STRONG></FONT>
LOCATION:City of Batavia
UID:e.1902.1828
SEQUENCE:3
DTSTAMP:20260421T002149Z
URL:http://business.bataviachamber.org/events/details/timewise-leveraging-your-time-with-craig-lowder-session-1-04-15-2010-1828
END:VEVENT

END:VCALENDAR
