BEGIN:VCALENDAR
VERSION:2.0
PRODID:-//ChamberMaster//Event Calendar 2.0//EN
METHOD:PUBLISH
X-PUBLISHED-TTL:P3D
REFRESH-INTERVAL:P3D
CALSCALE:GREGORIAN
BEGIN:VEVENT
DTSTART:20250212T183000Z
DTEND:20250212T203000Z
X-MICROSOFT-CDO-ALLDAYEVENT:FALSE
SUMMARY:Thermography Session!
DESCRIPTION:Our next Thermography session is Feb 12th 2025! Thermography is a noninvasive and pain free way to detect inflammation in the body which can be the start of disease.
X-ALT-DESC;FMTTYPE=text/html:Our next Thermography session is Feb 12th 2025! Thermography is a noninvasive and pain free way to detect inflammation in the body which can be the start of disease.
LOCATION:Oasis Integrative Medicine 32.S.Main St. Suite B Sugar Grove IL 60554
UID:e.1902.29333
SEQUENCE:3
DTSTAMP:20260422T150249Z
URL:http://business.bataviachamber.org/events/details/thermography-session-29333
END:VEVENT

END:VCALENDAR
