BEGIN:VCALENDAR
VERSION:2.0
PRODID:-//ChamberMaster//Event Calendar 2.0//EN
METHOD:PUBLISH
X-PUBLISHED-TTL:P3D
REFRESH-INTERVAL:P3D
CALSCALE:GREGORIAN
BEGIN:VEVENT
DTSTART:20250414T230000Z
DTEND:20250415T020000Z
X-MICROSOFT-CDO-ALLDAYEVENT:FALSE
SUMMARY:The Four Desires: 4 Week Series
DESCRIPTION:The Four Desires\n\nStarting Monday\, March 24th from 6pm to 9pm\n\nThe Four Desires is the inspiring\, empowering and life-changing process\, based on these ancient\, time-tested teachings that Rod Stryker created for anyone seeking a better\, more fulfilled life.\n\n\n	Uncover your life's unique purpose\n	Discover your heart's desires and increase your capacity to fulfill them\n	Understand and transform your non-constructive patterns\n	Access lasting peace\n	Overcome future challenges\n	Live more joyfully and intentionally\n	Tap into the healing and strengthening power of deep meditation and systematic\, complete relaxation\n	Heighten your intuition\n	Make your most creative and meaningful contribution to the world.\n	Stay on your path to success and happiness\n\n\nThis class will take place on Monday's starting March 24th from 6pm-9pm.\n\nThis class will take 4 weeks to finish.\n\nThe class includes teaching\, meditation\, journal reflections\, and yoga practices. You will want to purchase Rod Stryker's book The Four Desires. We strongly recommend that you do not read prior\, as this is an experimental class. But again\, that's only a recommendation!\n\nWe look forward to having you and help guide you into your next level of healing. As always our team has participated in this work\, and hope that you find it as healing as we do!\n\nInvestment: $150 for Full 4-Weeks\; Half-Price for repeat attendees (please reach out to info@torus-center.com)\n\nDates: Monday\, March 24th\n\nMonday\, March 31st\n\nMonday\, April 7th\n\nMonday\, April 14th\n\nHosted by Torus Center for Integrative Healing and Tricia Fiske\n\n121 Flinn St Batavia\, IL 60510\, Suite 121\n\n \n\nAbout Tricia Fiske\n\nTricia Fiske \, BA\, E-RYT 500\, YACEP\, Senior Faculty for Tantra Yoga Alchemy\, initiated in the Sri Vidya Yoga Tradition\, is a teacher\, trainer\, mentor\, mother\, and grandmother. She has been a student of yoga since 1997 and has been teaching since 1999. Tricia's teachings emphasize self-inquiry and spiritual exchange to get us out of our "story" and into the Present. Discovering the Heart as our command post rather than the mind. She uses asana\, pranayama\, bandhas\, chanting and meditation in her classes and workshops. To learn more about Tricia please go to her website at https://triciafiske.com//
X-ALT-DESC;FMTTYPE=text/html:<div>\n<h3>The Four Desires</h3>\n\n<p><strong>Starting Monday\, March 24th from 6pm to 9pm</strong></p>\n\n<p>The Four Desires is the inspiring\, empowering and life-changing process\, based on these ancient\, time-tested teachings that Rod Stryker created for anyone seeking a better\, more fulfilled life.</p>\n\n<ul style="margin-left:3em\; margin-right:0px">\n	<li>Uncover your life&rsquo\;s unique purpose</li>\n	<li>Discover your heart&rsquo\;s desires and increase your capacity to fulfill them</li>\n	<li>Understand and transform your non-constructive patterns</li>\n	<li>Access lasting peace</li>\n	<li>Overcome future challenges</li>\n	<li>Live more joyfully and intentionally</li>\n	<li>Tap into the healing and strengthening power of deep meditation and systematic\, complete relaxation</li>\n	<li>Heighten your intuition</li>\n	<li>Make your most creative and meaningful contribution to the world.</li>\n	<li>Stay on your path to success and happiness</li>\n</ul>\n\n<p>This class will take place on Monday&rsquo\;s starting March 24th from 6pm-9pm.</p>\n\n<p>This class will take 4 weeks to finish.</p>\n\n<p>The class includes teaching\, meditation\, journal reflections\, and yoga practices. You will want to purchase Rod Stryker&rsquo\;s book&nbsp\;<a href="https://www.google.com/books/edition/The_Four_Desires/dv_jIf9yf3UC?hl=en&amp\;gbpv=0" style="box-sizing: inherit\; text-decoration-line: none\; color: var(--tec-color-link-primary)\; outline: none\; border-bottom: 1px solid var(--tec-color-link-accent)\; transition: var(--tec-transition-color)\;">The Four Desires</a>. We strongly recommend that you do not read prior\, as this is an experimental class. But again\, that&rsquo\;s only a recommendation!</p>\n\n<p>We look forward to having you and help guide you into your next level of healing. As always our team has participated in this work\, and hope that you find it as healing as we do!</p>\n\n<p><strong>Investment:</strong>&nbsp\;$150 for Full 4-Weeks\; Half-Price for repeat attendees (please reach out to info@torus-center.com)</p>\n\n<p><strong>Dates:</strong>&nbsp\;Monday\, March 24th</p>\n\n<p>Monday\, March 31st</p>\n\n<p>Monday\, April 7th</p>\n\n<p>Monday\, April 14th</p>\n\n<p>Hosted by Torus Center for Integrative Healing and&nbsp\;<a href="https://torus-center.com/about-torus-center-for-integrative-healing/" style="box-sizing: inherit\; text-decoration-line: none\; color: var(--tec-color-link-primary)\; outline: none\; border-bottom: 1px solid var(--tec-color-link-accent)\; transition: var(--tec-transition-color)\;">Tricia Fiske</a></p>\n\n<p>121 Flinn St Batavia\, IL 60510\, Suite 121</p>\n\n<p>&nbsp\;</p>\n\n<p><strong>About Tricia Fiske</strong></p>\n\n<p>Tricia Fiske \, BA\, E-RYT 500\, YACEP\, Senior Faculty for Tantra Yoga Alchemy\, initiated in the Sri Vidya Yoga Tradition\, is a teacher\, trainer\, mentor\, mother\, and grandmother. She has been a student of yoga since 1997 and has been teaching since 1999. Tricia&rsquo\;s teachings emphasize self-inquiry and spiritual exchange to get us out of our &ldquo\;story&rdquo\; and into the Present. Discovering the Heart as our command post rather than the mind. She uses asana\, pranayama\, bandhas\, chanting and meditation in her classes and workshops. To learn more about Tricia please go to her website at&nbsp\;<a href="https://triciafiske.com//" style="box-sizing: inherit\; text-decoration-line: none\; color: var(--tec-color-link-primary)\; outline: none\; border-bottom: 1px solid var(--tec-color-link-accent)\; transition: var(--tec-transition-color)\;">https://triciafiske.com//</a></p>\n</div>\n
LOCATION:Torus Center for Integrative Healing 121 Flinn St Batavia\, IL 60510
UID:e.1902.29386
SEQUENCE:3
DTSTAMP:20260422T114051Z
URL:http://business.bataviachamber.org/events/details/the-four-desires-4-week-series-04-14-2025-29386
END:VEVENT

END:VCALENDAR
