BEGIN:VCALENDAR
VERSION:2.0
PRODID:-//ChamberMaster//Event Calendar 2.0//EN
METHOD:PUBLISH
X-PUBLISHED-TTL:P3D
REFRESH-INTERVAL:P3D
CALSCALE:GREGORIAN
BEGIN:VEVENT
DTSTART:20250621T140000Z
DTEND:20250621T160000Z
X-MICROSOFT-CDO-ALLDAYEVENT:FALSE
SUMMARY:Team Leader Kick-Off Breakfast
DESCRIPTION:Join us for a free Team Leader Breakfast to connect with fellow fundraisers\, get expert tips\, and kickstart your Walk4Animals & 5K Run team-building success! Enjoy a continental breakfast\, inspiring stories\, and the tools you need to lead your team to victory.\n\n\n\n \n\nSPACE IS LIMITED\n\n\n\n	Pick up supplies to help you organize and motivate your team.\n	Hear from past team leaders about strategies for fundraising and fostering team spirit.\n	Learn how your participation supports wild and domestic animals.\n\n\n\n\n\n\nThe Walk4Animals & 5K Run event is scheduled for Sunday\, September 28th at the Batavia Riverwalk.\n\n \n\nIt's never too early to start building your fundraising team! Don't miss this important opportunity.\n\n\n\n\nClick HERE to register for the breakfast
X-ALT-DESC;FMTTYPE=text/html:<div style="background:50% center / cover no-repeat rgb(248\, 247\, 247)\; border:0px\; padding:0px">\n<div style="background:transparent\; border:0px\; padding:0px">Join us for a free Team Leader Breakfast to connect with fellow fundraisers\, get expert tips\, and kickstart your Walk4Animals &amp\; 5K Run team-building success! Enjoy a continental breakfast\, inspiring stories\, and the tools you need to lead your team to victory.</div>\n</div>\n\n<div style="background:50% center / cover no-repeat rgb(248\, 247\, 247)\; border:0px\; padding:20px 40px">\n<div style="background:transparent\; border:0px\; padding:0px">&nbsp\;</div>\n\n<div style="background:transparent\; border:0px\; padding:0px"><strong>SPACE IS LIMITED</strong></div>\n\n<div style="background:transparent\; border:0px\; padding:0px">\n<ul>\n	<li>Pick up&nbsp\;supplies&nbsp\;to help you organize and motivate your team.</li>\n	<li>Hear from past team leaders about strategies for&nbsp\;fundraising&nbsp\;and&nbsp\;fostering team spirit.</li>\n	<li>Learn how your participation supports wild and domestic animals.</li>\n</ul>\n</div>\n\n<div style="background:transparent\; border:0px\; padding:0px">\n<div style="background:transparent\; border:0px\; padding:0px">\n<div style="background:transparent\; border:0px\; padding:0px">\n<div style="background:transparent\; border:0px\; padding:0px">The Walk4Animals &amp\; 5K Run event is scheduled for Sunday\, September 28th at the Batavia Riverwalk.</div>\n\n<div style="background:transparent\; border:0px\; padding:0px">&nbsp\;</div>\n\n<div style="background:transparent\; border:0px\; padding:0px"><strong>It&rsquo\;s never too early to start building your fundraising team! Don&rsquo\;t miss this important opportunity.</strong></div>\n</div>\n</div>\n</div>\n\n<p style="text-align:center"><a href="https://docs.google.com/forms/d/e/1FAIpQLScY8dTkZBjgDOc2bgdlIHuKlGl97XQQX15mP2BQ0gf0ilzheQ/viewform" style="color: rgb(171\, 195\, 128) !important\; box-sizing: border-box\; margin: 0px\; padding: 0px\; border: 0px\; outline: 0px\; text-size-adjust: 100%\; vertical-align: baseline\; background: transparent\; text-decoration-color: rgb(171\, 195\, 128)\; font-weight: 700\;" target="_blank">Click HERE to register for the breakfast</a></p>\n</div>\n
LOCATION:
UID:e.1902.29588
SEQUENCE:3
DTSTAMP:20260422T082346Z
URL:http://business.bataviachamber.org/events/details/team-leader-kick-off-breakfast-29588
END:VEVENT

END:VCALENDAR
