BEGIN:VCALENDAR
VERSION:2.0
PRODID:-//ChamberMaster//Event Calendar 2.0//EN
METHOD:PUBLISH
X-PUBLISHED-TTL:P3D
REFRESH-INTERVAL:P3D
CALSCALE:GREGORIAN
BEGIN:VEVENT
DTSTART:20100121T140000Z
DTEND:20100121T153000Z
X-MICROSOFT-CDO-ALLDAYEVENT:FALSE
SUMMARY:Swizzle Stick Strategy: 5 Ways to Stir Up New Business - 1
DESCRIPTION:Back by POPULAR Demand...the one and only Laurie Guest! Three years ago\, Laurie rocked the Batavia Chamber with her engaging style and no-nonsense approach. This year\, she will get your employees stirred-up about finding new business\, so it's time to energize your profits with her practical approach to marketing mastery.  During this idea-packed\, interactive session\, your employees will learn five ways they can help stir-up business.
X-ALT-DESC;FMTTYPE=text/html:<DIV style="FONT-FAMILY: Arial" align=center><FONT color=#0000ff size=4>Back by POPULAR Demand...the one and only <U><EM>Laurie Guest</EM></U>!</FONT></DIV><DIV style="FONT-FAMILY: Arial" align=left><FONT color=#0000ff size=4></FONT>&nbsp\;</DIV><DIV style="FONT-FAMILY: Arial" align=left><FONT color=#0000ff size=4>Three years ago\, Laurie rocked the Batavia Chamber with her engaging style and no-nonsense approach. This year\, she will get your employees stirred-up about finding new business\, so it's time to energize your profits with her practical approach to marketing mastery.&nbsp\; During this idea-packed\, interactive session\, your employees will learn five ways they can help stir-up business.</FONT></DIV>
LOCATION:East Side Community Center
UID:e.1902.1823
SEQUENCE:3
DTSTAMP:20260421T060250Z
URL:http://business.bataviachamber.org/events/details/swizzle-stick-strategy-5-ways-to-stir-up-new-business-1-01-21-2010-1823
END:VEVENT

END:VCALENDAR
