BEGIN:VCALENDAR
VERSION:2.0
PRODID:-//ChamberMaster//Event Calendar 2.0//EN
METHOD:PUBLISH
X-PUBLISHED-TTL:P3D
REFRESH-INTERVAL:P3D
CALSCALE:GREGORIAN
BEGIN:VEVENT
DTSTART:20170504T213000Z
DTEND:20170504T223000Z
X-MICROSOFT-CDO-ALLDAYEVENT:FALSE
SUMMARY:Strikers Fox Valley Ribbon Cutting
DESCRIPTION:Join us for the official ribbon cutting ceremony for Strikers Fox Valley FC!
X-ALT-DESC;FMTTYPE=text/html:Join us for the official ribbon cutting ceremony for Strikers Fox Valley FC!
LOCATION:Strikers Fox Valley\, 1000 S. Kirk Road\, Geneva
UID:e.1902.6615
SEQUENCE:3
DTSTAMP:20260422T025616Z
URL:http://business.bataviachamber.org/events/details/strikers-fox-valley-ribbon-cutting-6615
END:VEVENT

END:VCALENDAR
