BEGIN:VCALENDAR
VERSION:2.0
PRODID:-//ChamberMaster//Event Calendar 2.0//EN
METHOD:PUBLISH
X-PUBLISHED-TTL:P3D
REFRESH-INTERVAL:P3D
CALSCALE:GREGORIAN
BEGIN:VEVENT
DTSTART:20250503T180000Z
DTEND:20250503T183000Z
X-MICROSOFT-CDO-ALLDAYEVENT:FALSE
SUMMARY:Stress Reduction When You Have No Time
DESCRIPTION:Stress Reduction When You Have No Time\n\nSaturday\, May 3rd at 1pm CST\n\n**virtual 30 min session**\n\nStress and hormones are deeply connected and when we can learn to manage our stress better\, we will notice a shift in our hormonal symptoms.\n\nIt's hard to find time during this busy season\, so we will focus on some short\, effective techniques that have a big impact 3 breathing techniques and a restorative pose with pillows and blankets.\n\nInvestment: $10\n\nRegister below with your name and email address\; you will receive a Zoom link and Introductory Email prior to the Session on May 3rd.\n\nOther offerings by Bridgette: Yoga Nidra: Who Am I? on Saturday\, May 31st at 1pm and a 2 hour Intro to Hormone Yoga Workshop on Sunday\, July 20th at 10am!\n\nAnd Torus Center will be offering a Full Hormone Yoga Workshop in the Fall with Bridgette Shaw-Bane   more info coming soon!\n\nAbout Bridgette: Bridgette is a senior teacher and Sadhaka yogini in the ISHTA lineage and has been practicing for over 27yrs and teaching for over 20yrs\, with over 1000hrs training with master teachers. She specializes in Yoga Nidra\, Meditation and Restorative Yoga and runs trainings in Nidra and Meditation. Bridgette discovered HY in 2019 and has been sharing it withwomen around the world after getting certified to teach it by the creator\, Dinah Rodrigues. Bridgette resides in Calgary with her family\, where she continues to offer workshops\, classes and retreats\, locally and internationally\, bringing hormonal balance and relaxation tools to her students\, one breath at a time.\n\nwww.bridgetteshaw.com\n\nContraindications for Hormone Yoga:\n\n\n	Hormone Dependent Breast Cancer (and other hormone\n\n	dependent cancers)\n	Pregnancy- You can practice after 6 months of having\n\n	the baby or with doctors permission to proceed with\n\n	regular exercise. HY can help with breastfeeding.\n	Diastasis Recti\n	Advanced Endometriosis (medical permission needed if\n\n	not advanced\, please contact me prior to registering\n\n	as you will need to also work with your doctor.)\n	Recent Eye Surgery (concern is increased ocular\n\n	pressure\, we invert and we retain breath)\n	Glaucoma/Detached Retina\n	Serious Osteoporosis\n	Fibroids/Myomas over 3cm (medical permission needed\n\n	for small fibroids\, under 3cm)\n	Appendicitis without the appendix being removed
X-ALT-DESC;FMTTYPE=text/html:<h3>Stress Reduction When You Have No Time</h3>\n\n<p><strong>Saturday\, May 3rd at 1pm CST</strong></p>\n\n<p>**virtual 30 min session**</p>\n\n<p>Stress and hormones are deeply connected and when we can learn to manage our stress better\, we will notice a shift in our hormonal symptoms.</p>\n\n<p>It&rsquo\;s hard to find time during this busy season\, so we will focus on some short\, effective techniques that have a big impact&hellip\;3 breathing techniques and a restorative pose with pillows and blankets.</p>\n\n<p><strong>Investment:</strong>&nbsp\;$10</p>\n\n<p>Register below with your name and email address\; you will receive a Zoom link and Introductory Email prior to the Session on May 3rd.</p>\n\n<p>Other offerings by Bridgette:&nbsp\;<a href="https://torus-center.com/event/yoga-nidra/" style="box-sizing: inherit\; text-decoration-line: none\; color: var(--tec-color-link-primary)\; outline: none\; border-bottom: 1px solid var(--tec-color-link-accent)\; transition: var(--tec-transition-color)\;">Yoga Nidra: Who Am I?</a>&nbsp\;on Saturday\, May 31st at 1pm and a 2 hour&nbsp\;<a href="https://torus-center.com/event/intro-to-hormone-yoga-workshop/" style="box-sizing: inherit\; text-decoration-line: none\; color: var(--tec-color-link-primary)\; outline: none\; border-bottom: 1px solid var(--tec-color-link-accent)\; transition: var(--tec-transition-color)\;">Intro to Hormone Yoga Workshop</a>&nbsp\;on Sunday\, July 20th at 10am!</p>\n\n<p>And&nbsp\;<a href="https://torus-center.com/events/" style="box-sizing: inherit\; text-decoration-line: none\; color: var(--tec-color-link-primary)\; outline: none\; border-bottom: 1px solid var(--tec-color-link-accent)\; transition: var(--tec-transition-color)\;">Torus Center</a>&nbsp\;will be offering a Full Hormone Yoga Workshop in the Fall with Bridgette Shaw-Bane &ndash\; more info coming soon!</p>\n\n<p><strong>About Bridgette:</strong>&nbsp\;Bridgette is a senior teacher and Sadhaka yogini in the ISHTA lineage and has been practicing for over 27yrs and teaching for over 20yrs\, with over 1000hrs training with master teachers. She specializes in Yoga Nidra\, Meditation and Restorative Yoga and runs trainings in Nidra and Meditation. Bridgette discovered HY in 2019 and has been sharing it withwomen around the world after getting certified to teach it by the creator\, Dinah Rodrigues. Bridgette resides in Calgary with her family\, where she continues to offer workshops\, classes and retreats\, locally and internationally\, bringing hormonal balance and relaxation tools to her students\, one breath at a time.</p>\n\n<p><a href="http://www.bridgetteshaw.com/" style="box-sizing: inherit\; text-decoration-line: none\; color: var(--tec-color-link-primary)\; outline: none\; border-bottom: 1px solid var(--tec-color-link-accent)\; transition: var(--tec-transition-color)\;">www.bridgetteshaw.com</a></p>\n\n<h4>Contraindications for Hormone Yoga:</h4>\n\n<ul style="margin-left:3em\; margin-right:0px">\n	<li>Hormone Dependent Breast Cancer (and other hormone<br />\n	dependent cancers)</li>\n	<li>Pregnancy- You can practice after 6 months of having<br />\n	the baby or with doctors permission to proceed with<br />\n	regular exercise. HY can help with breastfeeding.</li>\n	<li>Diastasis Recti</li>\n	<li>Advanced Endometriosis (medical permission needed if<br />\n	not advanced\, please contact me prior to registering<br />\n	as you will need to also work with your doctor.)</li>\n	<li>Recent Eye Surgery (concern is increased ocular<br />\n	pressure\, we invert and we retain breath)</li>\n	<li>Glaucoma/Detached Retina</li>\n	<li>Serious Osteoporosis</li>\n	<li>Fibroids/Myomas over 3cm (medical permission needed<br />\n	for small fibroids\, under 3cm)</li>\n	<li>Appendicitis without the appendix being removed</li>\n</ul>\n
LOCATION:Torus Center for Integrative Healing 121 Flinn St Batavia\, IL 60510
UID:e.1902.29388
SEQUENCE:3
DTSTAMP:20260422T113858Z
URL:http://business.bataviachamber.org/events/details/stress-reduction-when-you-have-no-time-29388
END:VEVENT

END:VCALENDAR
