BEGIN:VCALENDAR
VERSION:2.0
PRODID:-//ChamberMaster//Event Calendar 2.0//EN
METHOD:PUBLISH
X-PUBLISHED-TTL:P3D
REFRESH-INTERVAL:P3D
CALSCALE:GREGORIAN
BEGIN:VEVENT
DTSTART:20250315T230000Z
DTEND:20250316T070000Z
X-MICROSOFT-CDO-ALLDAYEVENT:FALSE
SUMMARY:St Patricks Party Batavia VFW
DESCRIPTION:Come celebrate with us Saturday 3/15 at 6pm\, where everyone is Irish in our eyes! Corned Beef & Cabbage Dinner (while it lasts) starting at 6p. Live Music starting 7:30pm. Bagpippers will be here\, Cash Giveaways with Accel Entertainment\, 50/50 RaffIes\, Guinness\, Irish Car Bombs\, and more!
X-ALT-DESC;FMTTYPE=text/html:Come celebrate with us Saturday 3/15 at 6pm\, where everyone is Irish in our eyes! Corned Beef &amp\; Cabbage Dinner (while it lasts) starting at 6p. Live Music starting 7:30pm. Bagpippers will be here\, Cash Giveaways with Accel Entertainment\, 50/50 RaffIes\, Guinness\, Irish Car Bombs\, and more!
LOCATION:645 S. River Batavia IL
UID:e.1902.29393
SEQUENCE:3
DTSTAMP:20260422T150449Z
URL:http://business.bataviachamber.org/events/details/st-patricks-party-batavia-vfw-29393
END:VEVENT

END:VCALENDAR
