BEGIN:VCALENDAR
VERSION:2.0
PRODID:-//ChamberMaster//Event Calendar 2.0//EN
METHOD:PUBLISH
X-PUBLISHED-TTL:P3D
REFRESH-INTERVAL:P3D
CALSCALE:GREGORIAN
BEGIN:VEVENT
DTSTART:20250221T000000Z
DTEND:20250223T230000Z
X-MICROSOFT-CDO-ALLDAYEVENT:FALSE
SUMMARY:Spiritual Response Therapy Basic Training Class
DESCRIPTION:Spiritual Response Therapy Basic Training Class\n(NO PREREQUISITES\, HOWEVER HAVING RECEIVED A COMPLETE SRT CLEARING BEFORE ATTENDING CLASS IS HIGHLY RECOMMENDED)\n\nIn this three-and a half day class   You Will Learn:\n\n\n	Basic Principles of Spiritual Response Therapy\n	How to contact your High Self for Guidance\n	How to clear self-limiting programs and release blocking energies\n	How to change Past Life records and create more joy\n	How to use a Pendulum and research charts to clear yourself of fears\, traumas\, or conflicts\n\n\nDates & Times:\n\n\n	Thursday\, February 20th   6 p.m. to 9 p.m.\n	Friday\, February 21st   9 a.m to 5 p.m\n	Saturday\, February 22nd   9 a.m to 5 p.m\n	Sunday\, February 23rd   9 a.m to 5 p.m\n\n\nEarly Registration: $650.00 if paid in full prior to January 10th (we accept Visa\, Master Card and PayPal)\n\nStandard Registration: $675.00 if aid in full after January 10th\n\nRetake Fee is $425. A Deposit of at least $150 required to register.\n\nRegistration and Fees include the book "The Freedom Path"\, a pendulum\, and current charts.\n\nHosted by: Kathleen Butler\, Certified SRT and SpR Teacher of SRT Works & Torus Center for Integrative Healing\n\nTo register\, please call 360-753-1878 or srtworks@comcast.net\, a list of hotels will be sent.\n\nLocation: 121 Flinn St Batavia\, IL 60510
X-ALT-DESC;FMTTYPE=text/html:Spiritual Response Therapy Basic Training Class\n<p>(NO PREREQUISITES\, HOWEVER HAVING RECEIVED A COMPLETE SRT CLEARING BEFORE ATTENDING CLASS IS HIGHLY RECOMMENDED)</p>\n\n<p>In this three-and a half day class &ndash\; You Will Learn:</p>\n\n<ul style="margin-left:3em\; margin-right:0px">\n	<li>Basic Principles of Spiritual Response Therapy</li>\n	<li>How to contact your High Self for Guidance</li>\n	<li>How to clear self-limiting programs and release blocking energies</li>\n	<li>How to change Past Life records and create more joy</li>\n	<li>How to use a Pendulum and research charts to clear yourself of fears\, traumas\, or conflicts</li>\n</ul>\n\n<p>Dates &amp\; Times:</p>\n\n<ul style="margin-left:3em\; margin-right:0px">\n	<li>Thursday\, February 20th &ndash\; 6 p.m. to 9 p.m.</li>\n	<li>Friday\, February 21st &ndash\; 9 a.m to 5 p.m</li>\n	<li>Saturday\, February 22nd &ndash\; 9 a.m to 5 p.m</li>\n	<li>Sunday\, February 23rd &ndash\; 9 a.m to 5 p.m</li>\n</ul>\n\n<p>Early Registration: $650.00 if paid in full prior to January 10th (we accept Visa\, Master Card and PayPal)</p>\n\n<p>Standard Registration: $675.00 if aid in full after January 10th</p>\n\n<p>Retake Fee is $425. A Deposit of at least $150 required to register.</p>\n\n<p><em>Registration and Fees include the book &ldquo\;The Freedom Path&rdquo\;\, a pendulum\, and current charts.</em></p>\n\n<p><strong>Hosted by:</strong>&nbsp\;<a href="https://srtworks.com/" style="box-sizing: inherit\; text-decoration-line: none\; color: var(--tec-color-link-primary)\; outline: none\; border-bottom: 1px solid var(--tec-color-link-accent)\; transition: var(--tec-transition-color)\;">Kathleen Butler\, Certified SRT and SpR Teacher</a>&nbsp\;of SRT Works &amp\; Torus Center for Integrative Healing</p>\n\n<p>To register\, please call&nbsp\;<strong>360-753-1878</strong>&nbsp\;or <a href="mailto:srtworks@comcast.net">srtworks@comcast.net</a>\, a list of hotels will be sent.</p>\n\n<p><strong>Location:</strong>&nbsp\;121 Flinn St Batavia\, IL 60510</p>\n
LOCATION:Torus Center for Integrative Healing 121 Flinn St Batavia\, IL 60510
UID:e.1902.25697
SEQUENCE:3
DTSTAMP:20260422T145754Z
URL:http://business.bataviachamber.org/events/details/spiritual-response-therapy-basic-training-class-25697
END:VEVENT

END:VCALENDAR
