BEGIN:VCALENDAR
VERSION:2.0
PRODID:-//ChamberMaster//Event Calendar 2.0//EN
METHOD:PUBLISH
X-PUBLISHED-TTL:P3D
REFRESH-INTERVAL:P3D
CALSCALE:GREGORIAN
BEGIN:VEVENT
DTSTART:20250221T013000Z
DTEND:20250223T050000Z
X-MICROSOFT-CDO-ALLDAYEVENT:FALSE
SUMMARY:Shane Torres Stand Up Comedy
DESCRIPTION:Catch Shane Torres\, the hilariously dry and delightfully warm comedian\, live at The Comedy Vault Feb 20-22! Seen on Conan\, Comedy Central Half Hour\, and Last Comic Standing\, Shane's unique style and punchlines have earned rave reviews from The New York Times and comedy fans worldwide. Don't miss it!
X-ALT-DESC;FMTTYPE=text/html:Catch Shane Torres\, the hilariously dry and delightfully warm comedian\, live at The Comedy Vault Feb 20-22! Seen on <em>Conan</em>\, <em>Comedy Central Half Hour</em>\, and <em>Last Comic Standing</em>\, Shane&rsquo\;s unique style and punchlines have earned rave reviews from <em>The New York Times</em> and comedy fans worldwide. Don&rsquo\;t miss it!
LOCATION:The Comedy Vault 18 E. Wilson Street Batavia\, IL 60510
UID:e.1902.26572
SEQUENCE:3
DTSTAMP:20260422T150422Z
URL:http://business.bataviachamber.org/events/details/shane-torres-standup-comedy-26572
END:VEVENT

END:VCALENDAR
