BEGIN:VCALENDAR
VERSION:2.0
PRODID:-//ChamberMaster//Event Calendar 2.0//EN
METHOD:PUBLISH
X-PUBLISHED-TTL:P3D
REFRESH-INTERVAL:P3D
CALSCALE:GREGORIAN
BEGIN:VEVENT
DTSTART:20250426T140000Z
DTEND:20250426T163000Z
X-MICROSOFT-CDO-ALLDAYEVENT:FALSE
SUMMARY:Scam and Fraud Prevention Seminar
DESCRIPTION:All are invited from Youth to Seniors for this FREE event! Learn how to protect yourself from digital and internet predators. Avoid being scammed. Protect your money and your identity. Don't be a victim! Keynote speaker is Kane County States Attorney Jamie Mosser. Additional speakers\, refreshments and open Q&A time.
X-ALT-DESC;FMTTYPE=text/html:All are invited from Youth to Seniors for this FREE event! Learn how to protect yourself from digital and internet predators. Avoid being scammed. Protect your money and your identity. Don&#39\;t be a victim! Keynote speaker is Kane County States Attorney Jamie Mosser. Additional speakers\, refreshments and open Q&amp\;A time.
LOCATION:Bethany Lutheran Church 8 S. Lincoln St. Batavia\, IL 60510
UID:e.1902.29441
SEQUENCE:3
DTSTAMP:20260422T113819Z
URL:http://business.bataviachamber.org/events/details/scam-and-fraud-prevention-seminar-29441
END:VEVENT

END:VCALENDAR
